BEGIN:VCALENDAR
VERSION:2.0
METHOD:PUBLISH
PRODID:-//Missouri State University/Calendar of Events//EN
CALSCALE:GREGORIAN
X-WR-TIMEZONE:America/Chicago
BEGIN:VTIMEZONE
TZID:America/Chicago
BEGIN:DAYLIGHT
TZOFFSETFROM:-0600
TZOFFSETTO:-0500
DTSTART:20070311T020000
RRULE:FREQ=YEARLY;BYMONTH=3;BYDAY=2SU
TZNAME:CDT
END:DAYLIGHT
BEGIN:STANDARD
TZOFFSETFROM:-0500
TZOFFSETTO:-0600
DTSTART:20071104T020000
RRULE:FREQ=YEARLY;BYMONTH=11;BYDAY=1SU
TZNAME:CST
END:STANDARD
END:VTIMEZONE
BEGIN:VEVENT
UID:0615f831-53ce-4ae8-807e-60f077ab2d60.222842@calendar.missouristate.edu
CREATED:20221020T211959Z
LAST-MODIFIED:20221020T211959Z
LOCATION:Baker Bookstore
SUMMARY:Author Signing\, Alum Annie England Noblin
DESCRIPTION:Welcoming home\, Annie England Noblin on Oct. 29.\n\n\nNoblin 
 graduated from MSU with a master's in creative writing. She is now a succ
 essful author and teaches English and communication at Arkansas State Uni
 versity.\n\n\nPlease help us welcome Noblin home this Homecoming! She wil
 l be signing her newest book\, Christmas in Blue Dog Valley. The Bookstor
 e will have a few select other titles by Noblin available for purchase to
 o.
X-ALT-DESC;FMTTYPE=text/html:&lt;html&gt;&lt;head&gt;&lt;title&gt;&lt;/title&gt;&lt;/head&gt;&lt;body&gt;&lt;p&gt;We
 lcoming home\, Annie England Noblin on Oct. 29.&lt;/p&gt;\n&lt;p&gt;Noblin graduated 
 from MSU with a master's in creative writing. She is now a successful aut
 hor and teaches English and communication at Arkansas State University.&lt;/
 p&gt;\n&lt;p&gt;Please help us welcome&amp;nbsp\;Noblin home this Homecoming! She will
  be signing her newest book\, Christmas in Blue Dog Valley. The Bookstore
  will have a few select other titles by&amp;nbsp\;Noblin available for purcha
 se too.&lt;/p&gt;&lt;/body&gt;&lt;/html&gt;
DTSTART;TZID=America/Chicago:20221029T090000
DTEND;TZID=America/Chicago:20221029T150000
SEQUENCE:0
URL:https://shop.missouristatebookstore.com/c-276-author-events.aspx
CATEGORIES:Public
END:VEVENT
END:VCALENDAR