BEGIN:VCALENDAR
VERSION:2.0
METHOD:PUBLISH
PRODID:-//Missouri State University/Calendar of Events//EN
CALSCALE:GREGORIAN
X-WR-TIMEZONE:America/Chicago
BEGIN:VTIMEZONE
TZID:America/Chicago
BEGIN:DAYLIGHT
TZOFFSETFROM:-0600
TZOFFSETTO:-0500
DTSTART:20070311T020000
RRULE:FREQ=YEARLY;BYMONTH=3;BYDAY=2SU
TZNAME:CDT
END:DAYLIGHT
BEGIN:STANDARD
TZOFFSETFROM:-0500
TZOFFSETTO:-0600
DTSTART:20071104T020000
RRULE:FREQ=YEARLY;BYMONTH=11;BYDAY=1SU
TZNAME:CST
END:STANDARD
END:VTIMEZONE
BEGIN:VEVENT
UID:b9612156-64ac-4a4b-ac4e-76e6cc9571ed.222846@calendar.missouristate.edu
CREATED:20221024T182912Z
LAST-MODIFIED:20221024T182912Z
LOCATION:Roy Blunt Hall 345
SUMMARY:GGP Seminar: Amber Steele\, RG - Critical Mineral Resources and Mi
 ssouri
DESCRIPTION:Amber Steele\, RG\, is the geological survey program director 
 for the Missouri Geological Survey. She has an MS in soil science and a B
 S in geology and environmental science. She has 18 years of experience in
  the areas of natural resources and environmental policy\, including a va
 riety of technical and regulatory positions with the U.S. Department of A
 griculture's Natural Resources Conservation Service\, the Minnesota Board
  of Soil and Water Resources\, along with expertise within the Missouri D
 epartment of Natural Resources.\n\n\nCritical Mineral Resources and Misso
 uri will talk about the advancement in technology that has led to the cre
 ation of new material applications\, the increased technical performance\
 , durability and reliability of products\, and improved environmental and
  energy efficiency. However\, many of the technologies require minerals t
 hat are not currently produced in the United States and are considered "c
 ritical and strategic." The U.S. imports the most critical commodities. S
 pecifically\, the U.S. is import-reliant (imports are greater than 50 per
 cent of annual consumption) for 31 of the 35 minerals designated as criti
 cal by the Department of the Interior. Import dependence can lead to stra
 tegic vulnerability in both the economic and defense sectors.\n\n\nMissou
 ri has a long history of mineral production that includes significant dep
 osits of iron oxide-copper-gold\, which are found in the Southeast Missou
 ri Lead District. These deposits are major sources of iron\, lead\, zinc\
 , copper and silver. They contain resources of cobalt\, nickel and hereto
 fore unmined\, rare earth elements. Missouri has potentially significant 
 quantities of critical and strategic minerals\, but knowledge of the geol
 ogic structure and Precambrian bedrock must be improved to fully understa
 nd the volume and extent of critical mineral resources in the deep subsur
 face.\n\n\nThe Earth Mapping Resources Initiative (Earth MRI) is a partne
 rship among the U.S. Geological Survey\, the State Geological Surveys and
  other federal\, state and private-sector organizations with the goal of 
 improving our knowledge of the geologic framework in the United States an
 d identifying areas that have the potential to contain undiscovered criti
 cal mineral resources.
X-ALT-DESC;FMTTYPE=text/html:&lt;html&gt;&lt;head&gt;&lt;title&gt;&lt;/title&gt;&lt;/head&gt;&lt;body&gt;&lt;p&gt;Am
 ber Steele\, RG\, is the geological survey program director for the Misso
 uri Geological Survey. She has an MS in soil science and a BS in geology 
 and environmental science. She has 18 years of experience in the areas of
  natural resources and environmental policy\, including a variety of tech
 nical and regulatory positions with the U.S. Department of Agriculture's 
 Natural Resources Conservation Service\, the Minnesota Board of Soil and 
 Water Resources\, along with expertise within the Missouri Department of 
 Natural Resources.&lt;/p&gt;\n&lt;p&gt;&lt;strong&gt;Critical Mineral Resources and Missour
 i&lt;/strong&gt; will talk about the advancement in technology that has led to 
 the creation of new material applications\, the increased technical perfo
 rmance\, durability and reliability of products\, and improved environmen
 tal and energy efficiency. However\, many of the technologies require min
 erals that are not currently produced in the United States and are consid
 ered "critical and strategic." The U.S. imports the most critical commodi
 ties. Specifically\, the U.S. is import-reliant (imports are greater than
  50 percent of annual consumption) for 31 of the 35 minerals designated a
 s critical by the Department of the Interior. Import dependence can lead 
 to strategic vulnerability in both the economic and defense sectors.&lt;/p&gt;\
 n&lt;p&gt;Missouri has a long history of mineral production that includes signi
 ficant deposits of iron oxide-copper-gold\, which are found in the Southe
 ast Missouri Lead District. These deposits are major sources of iron\, le
 ad\, zinc\, copper and silver. They contain resources of cobalt\, nickel 
 and heretofore unmined\, rare earth elements. Missouri has potentially si
 gnificant quantities of critical and strategic minerals\, but knowledge o
 f the geologic structure and Precambrian bedrock must be improved to full
 y understand the volume and extent of critical mineral resources in the d
 eep subsurface.&lt;/p&gt;\n&lt;p&gt;The Earth Mapping Resources Initiative (Earth MRI
 ) is a partnership among the U.S. Geological Survey\, the State Geologica
 l Surveys and other federal\, state and private-sector organizations with
  the goal of improving our knowledge of the geologic framework in the Uni
 ted States and identifying areas that have the potential to contain undis
 covered critical mineral resources.&lt;/p&gt;&lt;/body&gt;&lt;/html&gt;
DTSTART;TZID=America/Chicago:20221028T143000
DTEND;TZID=America/Chicago:20221028T153000
SEQUENCE:0
URL:http://www.geosciences.MissouriState.edu
CATEGORIES:Public,Alumni,Current Students,Faculty,Future Students
END:VEVENT
END:VCALENDAR