BEGIN:VCALENDAR
VERSION:2.0
METHOD:PUBLISH
PRODID:-//Missouri State University/Calendar of Events//EN
CALSCALE:GREGORIAN
X-WR-TIMEZONE:America/Chicago
BEGIN:VTIMEZONE
TZID:America/Chicago
BEGIN:DAYLIGHT
TZOFFSETFROM:-0600
TZOFFSETTO:-0500
DTSTART:20070311T020000
RRULE:FREQ=YEARLY;BYMONTH=3;BYDAY=2SU
TZNAME:CDT
END:DAYLIGHT
BEGIN:STANDARD
TZOFFSETFROM:-0500
TZOFFSETTO:-0600
DTSTART:20071104T020000
RRULE:FREQ=YEARLY;BYMONTH=11;BYDAY=1SU
TZNAME:CST
END:STANDARD
END:VTIMEZONE
BEGIN:VEVENT
UID:489b0254-1b46-4cea-8e44-f11072f4efc5.222853@calendar.missouristate.edu
CREATED:20221024T203920Z
LAST-MODIFIED:20221024T203920Z
LOCATION:Faurot Hall 101
SUMMARY:Controlling Spotted Wing Drosphilia on Small Fruit Plantations
DESCRIPTION:Missouri State University and Lincoln University are conductin
 g a free educational workshop on \n\n\n\n\n\nControlling Spotted Wing Dro
 sophila on Small Fruit Plantings. \n\n\nFriday\, October 28th from 1:00 t
 o 4:00 p.m.\n\n\nMountain Grove Fruit Experiment Station\n\n\n9740 Red Sp
 ring Road\, Mountain Grove\, Missouri 65711\n\n\n\n\n\nTopics include:\n\
 n\nEvaluation of 4 distinct SWD traps\, with displays for reference\n\n\n
 Pest Management of SWD in Elderberry and Blueberry\n\n\nDeveloopment of S
 WD Degree Day Model for Missouri\n\n\nSouthern Highbush Blueberry Cultiva
 r Evaluation Update\n\n\n\n\n\nRegistration required:\n\n\nEmail registra
 tions: fruitscience@missouristate.edu\n\n\nPhone registrations 417-547-75
 00
X-ALT-DESC;FMTTYPE=text/html:&lt;html&gt;&lt;head&gt;&lt;title&gt;&lt;/title&gt;&lt;/head&gt;&lt;body&gt;&lt;p&gt;&lt;s
 pan&gt;Missouri State University and Lincoln University are conducting a&amp;nbs
 p\;&lt;/span&gt;&lt;span&gt;&lt;span&gt;free&lt;/span&gt;&lt;/span&gt;&lt;span&gt;&amp;nbsp\;educational workshop
  on&amp;nbsp\;&lt;/span&gt;&lt;/p&gt;\n&lt;p&gt;&lt;strong&gt;&lt;/strong&gt;&lt;/p&gt;\n&lt;p&gt;&lt;strong&gt;Controlling S
 potted Wing Drosophila on Small Fruit Plantings.&amp;nbsp\;&lt;/strong&gt;&lt;/p&gt;\n&lt;p&gt;
 &lt;strong&gt;Friday\, October 28th from 1:00 to 4:00 p.m.&lt;/strong&gt;&lt;/p&gt;\n&lt;p&gt;Mou
 ntain Grove Fruit Experiment Station&lt;/p&gt;\n&lt;p&gt;9740 Red Spring Road\, Mount
 ain Grove\,&amp;nbsp\;Missouri 65711&lt;/p&gt;\n&lt;p&gt;&lt;span&gt;&lt;/span&gt;&lt;/p&gt;\n&lt;p&gt;&lt;span&gt;Topi
 cs include:&lt;/span&gt;&lt;/p&gt;\n&lt;p&gt;Evaluation of 4 distinct SWD traps\, with disp
 lays for reference&lt;/p&gt;\n&lt;p&gt;Pest Management of SWD in Elderberry and Blueb
 erry&lt;/p&gt;\n&lt;p&gt;Develoopment of SWD Degree Day Model for Missouri&lt;/p&gt;\n&lt;p&gt;So
 uthern Highbush Blueberry Cultivar Evaluation Update&lt;/p&gt;\n&lt;p&gt;&lt;/p&gt;\n&lt;p&gt;Reg
 istration required:&lt;/p&gt;\n&lt;p&gt;Email registrations: fruitscience@missourista
 te.edu&lt;/p&gt;\n&lt;p&gt;Phone registrations 417-547-7500&lt;/p&gt;&lt;/body&gt;&lt;/html&gt;
DTSTART;TZID=America/Chicago:20221028T130000
DTEND;TZID=America/Chicago:20221028T160000
SEQUENCE:0
URL:
CATEGORIES:Public,Alumni,Current Students,Faculty,Future Students,Staff
END:VEVENT
END:VCALENDAR