BEGIN:VCALENDAR
VERSION:2.0
METHOD:PUBLISH
PRODID:-//Missouri State University/Calendar of Events//EN
CALSCALE:GREGORIAN
X-WR-TIMEZONE:America/Chicago
BEGIN:VTIMEZONE
TZID:America/Chicago
BEGIN:DAYLIGHT
TZOFFSETFROM:-0600
TZOFFSETTO:-0500
DTSTART:20070311T020000
RRULE:FREQ=YEARLY;BYMONTH=3;BYDAY=2SU
TZNAME:CDT
END:DAYLIGHT
BEGIN:STANDARD
TZOFFSETFROM:-0500
TZOFFSETTO:-0600
DTSTART:20071104T020000
RRULE:FREQ=YEARLY;BYMONTH=11;BYDAY=1SU
TZNAME:CST
END:STANDARD
END:VTIMEZONE
BEGIN:VEVENT
UID:c99c5aa9-a961-48b5-93a9-d308fffc8eaf.222855@calendar.missouristate.edu
CREATED:20221025T143037Z
LAST-MODIFIED:20221025T143037Z
LOCATION:Greenwood Laboratory School
SUMMARY:Native and Indigenous Heritage Month Honoring our Veterans Powwow
DESCRIPTION:Enjoy dances\, songs and food related to the Native American c
 ulture. This event is a collaboration with the American Indian Center in 
 Springfield. 
X-ALT-DESC;FMTTYPE=text/html:&lt;html&gt;&lt;head&gt;&lt;title&gt;&lt;/title&gt;&lt;/head&gt;&lt;body&gt;&lt;p&gt;En
 joy dances\, songs and food related to the Native American culture.&amp;nbsp\
 ;&lt;a href="https://www.facebook.com/events/greenwood-laboratory-school/hon
 oring-our-veterans-powwow/602317421596658/"&gt;This event&lt;/a&gt; is a collabora
 tion with the American Indian Center in Springfield.&amp;nbsp\;&lt;/p&gt;\n&lt;p&gt;&lt;/p&gt;&lt;
 /body&gt;&lt;/html&gt;
DTSTART;TZID=America/Chicago:20221105T000000
DTEND;TZID=America/Chicago:20221105T000000
SEQUENCE:0
URL:https://www.facebook.com/events/greenwood-laboratory-school/honoring-o
 ur-veterans-powwow/602317421596658/
CATEGORIES:Public,Alumni,Current Students,Faculty,Staff
END:VEVENT
END:VCALENDAR