BEGIN:VCALENDAR
VERSION:2.0
METHOD:PUBLISH
PRODID:-//Missouri State University/Calendar of Events//EN
CALSCALE:GREGORIAN
X-WR-TIMEZONE:America/Chicago
BEGIN:VTIMEZONE
TZID:America/Chicago
BEGIN:DAYLIGHT
TZOFFSETFROM:-0600
TZOFFSETTO:-0500
DTSTART:20070311T020000
RRULE:FREQ=YEARLY;BYMONTH=3;BYDAY=2SU
TZNAME:CDT
END:DAYLIGHT
BEGIN:STANDARD
TZOFFSETFROM:-0500
TZOFFSETTO:-0600
DTSTART:20071104T020000
RRULE:FREQ=YEARLY;BYMONTH=11;BYDAY=1SU
TZNAME:CST
END:STANDARD
END:VTIMEZONE
BEGIN:VEVENT
UID:883e0db8-d39e-45e8-b586-88c90e0798a0.222856@calendar.missouristate.edu
CREATED:20221025T150737Z
LAST-MODIFIED:20221025T150737Z
LOCATION:Plaster Student Union\, Robert W. Ballroom West
SUMMARY:MSU Way and United Way Campaigns Celebration Luncheon
DESCRIPTION:This luncheon is for MSU faculty and staff who participate in 
 the 2022-23 MSU Way and United Way campaigns with a donation or rollover 
 donation.\n\n\nThere will be prize drawings for those who participate in 
 one or more of the four challenges. Please RSVP.\n\n\nIn the spirit of ou
 r Public Affairs mission\, the MSU Way and United Way campaigns are a com
 bined effort on the Missouri State campus. Take the opportunity to make a
  difference!
X-ALT-DESC;FMTTYPE=text/html:&lt;html&gt;&lt;head&gt;&lt;title&gt;&lt;/title&gt;&lt;/head&gt;&lt;body&gt;&lt;p&gt;Th
 is luncheon is for MSU faculty and staff who participate in the 2022-23 &lt;
 a href="https://maroonation.missouristate.edu/s/1691/foundation/interior.
 aspx?sid=1691&amp;amp\;gid=2&amp;amp\;pgid=1153&amp;amp\;content_id=738&amp;amp\;appealco
 de92023"&gt;MSU Way and United Way &lt;/a&gt;campaigns with a donation or rollover
  donation.&lt;/p&gt;\n&lt;p&gt;There will be prize drawings for those who participate
  in one or more of the four challenges. Please &lt;a href="https://www.misso
 uristate.edu/UnitedWayCampaign/rsvp-form.htm"&gt;RSVP&lt;/a&gt;.&lt;/p&gt;\n&lt;p&gt;In the sp
 irit of our Public Affairs mission\, the MSU Way and United Way campaigns
  are a combined effort on the Missouri State campus. Take the opportunity
  to make a difference!&lt;/p&gt;&lt;/body&gt;&lt;/html&gt;
DTSTART;TZID=America/Chicago:20221107T113000
DTEND;TZID=America/Chicago:20221107T130000
SEQUENCE:0
URL:https://maroonation.missouristate.edu/s/1691/foundation/interior.aspx?
 sid=1691&amp;gid=2&amp;pgid=1153&amp;content_id=738&amp;appealcode92023
CATEGORIES:Faculty,Staff
END:VEVENT
END:VCALENDAR