BEGIN:VCALENDAR
VERSION:2.0
METHOD:PUBLISH
PRODID:-//Missouri State University/Calendar of Events//EN
CALSCALE:GREGORIAN
X-WR-TIMEZONE:America/Chicago
BEGIN:VTIMEZONE
TZID:America/Chicago
BEGIN:DAYLIGHT
TZOFFSETFROM:-0600
TZOFFSETTO:-0500
DTSTART:20070311T020000
RRULE:FREQ=YEARLY;BYMONTH=3;BYDAY=2SU
TZNAME:CDT
END:DAYLIGHT
BEGIN:STANDARD
TZOFFSETFROM:-0500
TZOFFSETTO:-0600
DTSTART:20071104T020000
RRULE:FREQ=YEARLY;BYMONTH=11;BYDAY=1SU
TZNAME:CST
END:STANDARD
END:VTIMEZONE
BEGIN:VEVENT
UID:04bb2120-0b19-46a0-a9f8-491a68867288.222857@calendar.missouristate.edu
CREATED:20221025T235358Z
LAST-MODIFIED:20221025T235358Z
LOCATION:
SUMMARY:Academic Advisor Forum: Technology in Advising
DESCRIPTION:Attend this session to learn about changes in technology that 
 will directly impact academic advisors. The advisor forum will focus on s
 everal initiatives\, including the upcoming changes to My Missouri State.
 \n\n\nJoin via Zoom.
X-ALT-DESC;FMTTYPE=text/html:&lt;html&gt;&lt;head&gt;&lt;title&gt;&lt;/title&gt;&lt;/head&gt;&lt;body&gt;&lt;p&gt;At
 tend this session to learn about changes in technology that will directly
  impact academic advisors. The advisor forum will focus on several initia
 tives\, including the upcoming changes to My Missouri State.&lt;/p&gt;\n&lt;p&gt;Join
  via &lt;a href="https://missouristate.zoom.us/j/98766629299"&gt;Zoom&lt;/a&gt;.&lt;/p&gt;\
 n&lt;p&gt;&lt;/p&gt;&lt;/body&gt;&lt;/html&gt;
DTSTART;TZID=America/Chicago:20221208T120000
DTEND;TZID=America/Chicago:20221208T130000
SEQUENCE:0
URL:https://www.missouristate.edu/Advising/forum-schedule.htm
CATEGORIES:Faculty,Staff
END:VEVENT
END:VCALENDAR