BEGIN:VCALENDAR
VERSION:2.0
METHOD:PUBLISH
PRODID:-//Missouri State University/Calendar of Events//EN
CALSCALE:GREGORIAN
X-WR-TIMEZONE:America/Chicago
BEGIN:VTIMEZONE
TZID:America/Chicago
BEGIN:DAYLIGHT
TZOFFSETFROM:-0600
TZOFFSETTO:-0500
DTSTART:20070311T020000
RRULE:FREQ=YEARLY;BYMONTH=3;BYDAY=2SU
TZNAME:CDT
END:DAYLIGHT
BEGIN:STANDARD
TZOFFSETFROM:-0500
TZOFFSETTO:-0600
DTSTART:20071104T020000
RRULE:FREQ=YEARLY;BYMONTH=11;BYDAY=1SU
TZNAME:CST
END:STANDARD
END:VTIMEZONE
BEGIN:VEVENT
UID:d14368c0-fcfe-4c70-9f59-cc8ff2cb1f86.222858@calendar.missouristate.edu
CREATED:20221103T190135Z
LAST-MODIFIED:20221103T190135Z
LOCATION:Strong Hall 401
SUMMARY:King Tut Centennial Keynote
DESCRIPTION:On Nov. 4 1922\, one of the most famous ancient Egyptian tombs
 --that belonging to Pharaoh Tutankhamun (aka King Tut)--was discovered. E
 xactly 100 years later\, on Nov. 4\, 2022\, Dr. Kathleen Sheppard\, assoc
 iate professor in the Department of History and Political Science at the 
 University of Missouri\, S&amp;T\, will present a lecture titled\, "Tea with 
 King Tutankhamun at the Winter Palace Hotel." \n\n\nThis event is sponsor
 ed by the Department of History\, Anthropology\, African and African Amer
 ican Studies\, History Club and Anthropology Club.
X-ALT-DESC;FMTTYPE=text/html:&lt;html&gt;&lt;head&gt;&lt;title&gt;&lt;/title&gt;&lt;/head&gt;&lt;body&gt;&lt;p&gt;On
  Nov. 4 1922\, one of the most famous ancient Egyptian tombs--that belong
 ing to Pharaoh Tutankhamun (aka King Tut)--was discovered. Exactly 100 ye
 ars later\, on Nov. 4\, 2022\, Dr. Kathleen Sheppard\, associate professo
 r in the Department of History and Political Science at the University of
  Missouri\, S&amp;amp\;T\, will&amp;nbsp\;present&amp;nbsp\;a lecture titled\, "Tea w
 ith King Tutankhamun at the Winter Palace Hotel."&amp;nbsp\;&lt;/p&gt;\n&lt;p&gt;This eve
 nt is sponsored by the Department of History\, Anthropology\, African and
  African American Studies\, History Club and Anthropology Club.&lt;/p&gt;&lt;/body
 &gt;&lt;/html&gt;
DTSTART;TZID=America/Chicago:20221104T153000
DTEND;TZID=America/Chicago:20221104T170000
SEQUENCE:0
URL:116762.jpg
CATEGORIES:Public,Alumni,Current Students,Faculty,Future Students,Staff
END:VEVENT
END:VCALENDAR