BEGIN:VCALENDAR
VERSION:2.0
METHOD:PUBLISH
PRODID:-//Missouri State University/Calendar of Events//EN
CALSCALE:GREGORIAN
X-WR-TIMEZONE:America/Chicago
BEGIN:VTIMEZONE
TZID:America/Chicago
BEGIN:DAYLIGHT
TZOFFSETFROM:-0600
TZOFFSETTO:-0500
DTSTART:20070311T020000
RRULE:FREQ=YEARLY;BYMONTH=3;BYDAY=2SU
TZNAME:CDT
END:DAYLIGHT
BEGIN:STANDARD
TZOFFSETFROM:-0500
TZOFFSETTO:-0600
DTSTART:20071104T020000
RRULE:FREQ=YEARLY;BYMONTH=11;BYDAY=1SU
TZNAME:CST
END:STANDARD
END:VTIMEZONE
BEGIN:VEVENT
UID:3761035a-232b-4b8d-b92f-03571f62326f.222859@calendar.missouristate.edu
CREATED:20221103T190004Z
LAST-MODIFIED:20221103T190004Z
LOCATION:
SUMMARY:King Tut Centennial: The Mummy (1932) Film Watch and Panel
DESCRIPTION:"It Comes Alive" is the tagline for the 1932 Universal Picture
 s' Classic Monster movie\, The Mummy\, staring Boris Karloff. This pre-co
 de film is significant for its position in film history\, the horror genr
 e\, and in the history of Egyptomania that spread across the U.S. after t
 he discovery of King Tut's ancient Egyptian tomb\, exactly 100 years ago.
  \n\n\nWatch the short 75-minute film and stay for a panel discussion wit
 h four Missouri State University experts: Egyptologist Dr. Julia Troche (
 History)\, Ancient Historian and Professor of Global Studies Dr. Bryan Br
 inkman (World Languages and Cultures)\; Archaeologist and Classicist Dr. 
 Kristin Harper (World Languages and Cultures)\; and Media Theory and Crit
 icism Professor Dr. Holly Holladay (Media\, Journalism\, and Film). \n\n\
 nThis event is sponsored by CHPA\, the Department of History and the Depa
 rtment of Media\, Journalism and Film\, in collaboration with the Moxie C
 inema. \n\n\nSynopsis: A team of British archaeologists led by Sir Joseph
  Whemple (Arthur Byron) discover the mummified remains of the ancient Egy
 ptian prince Imhotep (Boris Karloff)\, along with the legendary scroll of
  Thoth. When one of the archaeologists recites the scroll aloud\, Imhotep
  returns to life\, but escapes. Several years later\, Imhotep has taken o
 n the guise of a wealthy man\, as he searches Egypt for his lost love\, w
 ho he believes has been reincarnated as the lovely Helen Grosvenor (Zita 
 Johann). [RT]Starring: Boris Karloff\, Zita Johann\, David MannersDirecto
 r: Karl Freund\n\n\nhttp://www.moxiecinema.com/films/the-mummy-1932
X-ALT-DESC;FMTTYPE=text/html:&lt;html&gt;&lt;head&gt;&lt;title&gt;&lt;/title&gt;&lt;/head&gt;&lt;body&gt;&lt;p&gt;"I
 t Comes Alive" is the tagline for the 1932 Universal Pictures' Classic Mo
 nster movie\,&amp;nbsp\;The Mummy\, staring Boris Karloff. This pre-code film
  is significant&amp;nbsp\;for its position in&amp;nbsp\;film history\, the horror
  genre\, and in the history of Egyptomania that&amp;nbsp\;spread across the U
 .S. after the discovery of King Tut's ancient Egyptian tomb\, exactly 100
  years ago.&amp;nbsp\;&lt;/p&gt;\n&lt;p&gt;Watch the short 75-minute film and stay for a 
 panel discussion with four Missouri State University experts: Egyptologis
 t Dr. Julia Troche (History)\,&amp;nbsp\;Ancient Historian and Professor of G
 lobal Studies Dr. Bryan Brinkman (World Languages and Cultures)\; Archaeo
 logist and Classicist Dr. Kristin Harper (World Languages and Cultures)\;
  and Media Theory and Criticism Professor Dr. Holly Holladay (Media\, Jou
 rnalism\, and Film).&amp;nbsp\;&lt;/p&gt;\n&lt;p&gt;This event is sponsored by CHPA\, the
  Department of History and the Department of Media\, Journalism and Film\
 , in collaboration with the Moxie Cinema.&amp;nbsp\;&lt;/p&gt;\n&lt;p&gt;Synopsis: A team
  of British archaeologists led by Sir Joseph Whemple (Arthur Byron) disco
 ver the mummified remains of the ancient Egyptian prince Imhotep (Boris K
 arloff)\, along with the legendary scroll of Thoth. When one of the archa
 eologists recites the scroll aloud\, Imhotep returns to life\, but escape
 s. Several years later\, Imhotep has taken on the guise of a wealthy man\
 , as he searches Egypt for his lost love\, who he believes has been reinc
 arnated as the lovely Helen Grosvenor (Zita Johann). [RT]&lt;br&gt;&lt;br&gt;Starring
 : Boris Karloff\, Zita Johann\, David Manners&lt;br&gt;Director: Karl Freund&lt;/p
 &gt;\n&lt;p&gt;http://www.moxiecinema.com/films/the-mummy-1932&lt;/p&gt;&lt;/body&gt;&lt;/html&gt;
DTSTART;TZID=America/Chicago:20221102T190000
DTEND;TZID=America/Chicago:20221102T210000
SEQUENCE:1
URL:http://www.moxiecinema.com/films/the-mummy-1932
CATEGORIES:Public,Alumni,Current Students,Faculty,Future Students,Staff
END:VEVENT
END:VCALENDAR