BEGIN:VCALENDAR
VERSION:2.0
METHOD:PUBLISH
PRODID:-//Missouri State University/Calendar of Events//EN
CALSCALE:GREGORIAN
X-WR-TIMEZONE:America/Chicago
BEGIN:VTIMEZONE
TZID:America/Chicago
BEGIN:DAYLIGHT
TZOFFSETFROM:-0600
TZOFFSETTO:-0500
DTSTART:20070311T020000
RRULE:FREQ=YEARLY;BYMONTH=3;BYDAY=2SU
TZNAME:CDT
END:DAYLIGHT
BEGIN:STANDARD
TZOFFSETFROM:-0500
TZOFFSETTO:-0600
DTSTART:20071104T020000
RRULE:FREQ=YEARLY;BYMONTH=11;BYDAY=1SU
TZNAME:CST
END:STANDARD
END:VTIMEZONE
BEGIN:VEVENT
UID:7dae2d8f-2fd7-4f9b-a90d-981a4798d0f7.222860@calendar.missouristate.edu
CREATED:20221026T051511Z
LAST-MODIFIED:20221026T051511Z
LOCATION:New Orleans\, La.
SUMMARY:Missouri State University Women's Golf at Tulane Classic presented
  by Chad Brownstein
DESCRIPTION:Missouri State University Women's Golf visits Tulane Classic p
 resented by Chad Brownstein
X-ALT-DESC;FMTTYPE=text/html:&lt;html&gt;&lt;head&gt;&lt;title&gt;&lt;/title&gt;&lt;/head&gt;&lt;body&gt;Misso
 uri State University Women's Golf visits Tulane Classic presented by Chad
  Brownstein&lt;/body&gt;&lt;/html&gt;
DTSTART;TZID=America/Chicago:20230212T090000
DTEND;TZID=America/Chicago:20230212T000000
SEQUENCE:0
URL:http://missouristatebears.com/index.aspx?path=wgolf
CATEGORIES:Current Students,Future Students,Parents and Family,Alumni,
 Faculty,Staff,Community,Visitors,Athletics
END:VEVENT
END:VCALENDAR