BEGIN:VCALENDAR
VERSION:2.0
METHOD:PUBLISH
PRODID:-//Missouri State University/Calendar of Events//EN
CALSCALE:GREGORIAN
X-WR-TIMEZONE:America/Chicago
BEGIN:VTIMEZONE
TZID:America/Chicago
BEGIN:DAYLIGHT
TZOFFSETFROM:-0600
TZOFFSETTO:-0500
DTSTART:20070311T020000
RRULE:FREQ=YEARLY;BYMONTH=3;BYDAY=2SU
TZNAME:CDT
END:DAYLIGHT
BEGIN:STANDARD
TZOFFSETFROM:-0500
TZOFFSETTO:-0600
DTSTART:20071104T020000
RRULE:FREQ=YEARLY;BYMONTH=11;BYDAY=1SU
TZNAME:CST
END:STANDARD
END:VTIMEZONE
BEGIN:VEVENT
UID:eca1058c-1f5d-460d-9c02-9145826c24d2.222866@calendar.missouristate.edu
CREATED:20221026T142739Z
LAST-MODIFIED:20221026T142739Z
LOCATION:
SUMMARY:Computer Science Seminar - Melissa Crouch
DESCRIPTION:Summary: \n\n\nMelissa Crouch graduated from Missouri State wi
 th a Computer Science degree in 1996. She worked as a software engineer a
 t Cerner and then Sprint/T-Mobile before moving into management. She has 
 been a manager for 17 years. Melissa leads a team of software engineers\,
  designers\, and testers in the Overland Park\, KS area and across the gl
 obe. She is also a Missouri State Computer Science Advisory Board member.
 \n\n\n \n\n\nMelissa will share her career experiences\, how work is typi
 cally done today\, and key skills beyond programming that will help you b
 e successful.  She will share more about her organization and current are
 as of focus in the industry.\n\n\n\n\n\nJoin Zoom Meeting\n\n\nhttps://mi
 ssouristate.zoom.us/j/98940921136?pwd=a0dzK3RLbi8zdWRKRkpOWnBRMFFLUT09\n\
 n\n\n\n\nMeeting ID: 989 4092 1136\n\n\nPasscode: 025924\n\n\nOne tap mob
 ile\n\n\n+16469313860\,\,98940921136# US\n\n\n+13017158592\,\,98940921136
 # US (Washington DC)
X-ALT-DESC;FMTTYPE=text/html:&lt;html&gt;&lt;head&gt;&lt;title&gt;&lt;/title&gt;&lt;/head&gt;&lt;body&gt;&lt;p&gt;Su
 mmary:&amp;nbsp\;&lt;/p&gt;\n&lt;p&gt;&lt;i&gt;&lt;span&gt;Melissa Crouch graduated from Missouri Sta
 te with a Computer Science degree in 1996. She worked as a software engin
 eer at Cerner and then Sprint/T-Mobile before moving into management. She
  has been a manager for 17 years. Melissa leads a team of software engine
 ers\, designers\, and testers in the Overland Park\, KS area and across t
 he globe. She is also a Missouri State Computer Science Advisory Board me
 mber.&lt;/span&gt;&lt;/i&gt;&lt;/p&gt;\n&lt;p&gt;&lt;i&gt;&lt;span&gt;&amp;nbsp\;&lt;/span&gt;&lt;/i&gt;&lt;/p&gt;\n&lt;p&gt;&lt;i&gt;&lt;span&gt;Mel
 issa will share her career experiences\, how work is typically done today
 \, and key skills beyond programming that will help you be successful.&amp;nb
 sp\; She will share more about her organization and current areas of focu
 s in the industry.&lt;/span&gt;&lt;/i&gt;&lt;/p&gt;\n&lt;p&gt;&lt;i&gt;&lt;span&gt;&lt;/span&gt;&lt;/i&gt;&lt;/p&gt;\n&lt;p&gt;Join Z
 oom Meeting&lt;/p&gt;\n&lt;p&gt;&lt;a href="https://missouristate.zoom.us/j/98940921136?
 pwd=a0dzK3RLbi8zdWRKRkpOWnBRMFFLUT09"&gt;https://missouristate.zoom.us/j/989
 40921136?pwd=a0dzK3RLbi8zdWRKRkpOWnBRMFFLUT09&lt;/a&gt;&lt;/p&gt;\n&lt;p&gt;&lt;/p&gt;\n&lt;p&gt;Meetin
 g ID: 989 4092 1136&lt;/p&gt;\n&lt;p&gt;Passcode: 025924&lt;/p&gt;\n&lt;p&gt;One tap mobile&lt;/p&gt;\n
 &lt;p&gt;+16469313860\,\,98940921136# US&lt;/p&gt;\n&lt;p&gt;+13017158592\,\,98940921136# U
 S (Washington DC)&lt;/p&gt;&lt;/body&gt;&lt;/html&gt;
DTSTART;TZID=America/Chicago:20221114T122000
DTEND;TZID=America/Chicago:20221114T131000
SEQUENCE:0
URL:
CATEGORIES:Current Students,Faculty,Staff
END:VEVENT
END:VCALENDAR