BEGIN:VCALENDAR
VERSION:2.0
METHOD:PUBLISH
PRODID:-//Missouri State University/Calendar of Events//EN
CALSCALE:GREGORIAN
X-WR-TIMEZONE:America/Chicago
BEGIN:VTIMEZONE
TZID:America/Chicago
BEGIN:DAYLIGHT
TZOFFSETFROM:-0600
TZOFFSETTO:-0500
DTSTART:20070311T020000
RRULE:FREQ=YEARLY;BYMONTH=3;BYDAY=2SU
TZNAME:CDT
END:DAYLIGHT
BEGIN:STANDARD
TZOFFSETFROM:-0500
TZOFFSETTO:-0600
DTSTART:20071104T020000
RRULE:FREQ=YEARLY;BYMONTH=11;BYDAY=1SU
TZNAME:CST
END:STANDARD
END:VTIMEZONE
BEGIN:VEVENT
UID:4fb54478-5e1a-4718-bfd0-d500a69cd2fe.222874@calendar.missouristate.edu
CREATED:20221028T144435Z
LAST-MODIFIED:20221028T144435Z
LOCATION:Plaster Student Union\, Robert W. Grand Ballroom\, 308 &amp; 312
SUMMARY:Job &amp; Internship Career Fair
DESCRIPTION:The Career Center is hosting a Career Fair for all students an
 d alumni from all sorts of majors in the Plaster Student Union Ballroom a
 nd PSU 308 and 312.
X-ALT-DESC;FMTTYPE=text/html:&lt;html&gt;&lt;head&gt;&lt;title&gt;&lt;/title&gt;&lt;/head&gt;&lt;body&gt;&lt;p&gt;Th
 e &lt;a href="https://careercenter.missouristate.edu/" title="Career Center"
 &gt;&lt;strong&gt;Career Center&lt;/strong&gt;&lt;/a&gt; is hosting a &lt;strong&gt;Career Fair&lt;/str
 ong&gt;&amp;nbsp\;for all students and alumni from all sorts of majors in the Pl
 aster Student Union Ballroom and PSU 308&amp;nbsp\;and&amp;nbsp\;312.&lt;/p&gt;\n&lt;p&gt;&lt;/p
 &gt;&lt;/body&gt;&lt;/html&gt;
DTSTART;TZID=America/Chicago:20230222T100000
DTEND;TZID=America/Chicago:20230222T140000
SEQUENCE:0
URL:https://careercenter.missouristate.edu/Career-fairs.htm
CATEGORIES:Alumni,Current Students,Faculty,Staff
END:VEVENT
END:VCALENDAR