BEGIN:VCALENDAR
VERSION:2.0
METHOD:PUBLISH
PRODID:-//Missouri State University/Calendar of Events//EN
CALSCALE:GREGORIAN
X-WR-TIMEZONE:America/Chicago
BEGIN:VTIMEZONE
TZID:America/Chicago
BEGIN:DAYLIGHT
TZOFFSETFROM:-0600
TZOFFSETTO:-0500
DTSTART:20070311T020000
RRULE:FREQ=YEARLY;BYMONTH=3;BYDAY=2SU
TZNAME:CDT
END:DAYLIGHT
BEGIN:STANDARD
TZOFFSETFROM:-0500
TZOFFSETTO:-0600
DTSTART:20071104T020000
RRULE:FREQ=YEARLY;BYMONTH=11;BYDAY=1SU
TZNAME:CST
END:STANDARD
END:VTIMEZONE
BEGIN:VEVENT
UID:4b5e48f6-c715-48db-a3e7-3a7e8032b86b.222909@calendar.missouristate.edu
CREATED:20221028T230102Z
LAST-MODIFIED:20221028T230102Z
LOCATION:Glass Hall\, David D. 103
SUMMARY:U.S. Passport Review &amp; Assistance
DESCRIPTION:A passport service representative will be on campus to assist 
 anyone who wants to apply for a U.S. passport.  Visit with this expert to
  find out how to get started\, or bring a completed application and docum
 ents for a final check-up before mailing.
X-ALT-DESC;FMTTYPE=text/html:&lt;html&gt;&lt;head&gt;&lt;title&gt;&lt;/title&gt;&lt;/head&gt;&lt;body&gt;&lt;p&gt;A 
 passport service representative will be on campus to assist anyone who wa
 nts to apply for a U.S. passport.&amp;nbsp\; Visit with this expert to find o
 ut how to get started\, or bring a completed application and documents fo
 r a final check-up before mailing.&lt;/p&gt;\n&lt;p&gt;&lt;/p&gt;&lt;/body&gt;&lt;/html&gt;
DTSTART;TZID=America/Chicago:20221114T100000
DTEND;TZID=America/Chicago:20221114T120000
SEQUENCE:0
URL:
CATEGORIES:Public,Alumni,Current Students,Faculty,Staff
END:VEVENT
END:VCALENDAR