BEGIN:VCALENDAR
VERSION:2.0
METHOD:PUBLISH
PRODID:-//Missouri State University/Calendar of Events//EN
CALSCALE:GREGORIAN
X-WR-TIMEZONE:America/Chicago
BEGIN:VTIMEZONE
TZID:America/Chicago
BEGIN:DAYLIGHT
TZOFFSETFROM:-0600
TZOFFSETTO:-0500
DTSTART:20070311T020000
RRULE:FREQ=YEARLY;BYMONTH=3;BYDAY=2SU
TZNAME:CDT
END:DAYLIGHT
BEGIN:STANDARD
TZOFFSETFROM:-0500
TZOFFSETTO:-0600
DTSTART:20071104T020000
RRULE:FREQ=YEARLY;BYMONTH=11;BYDAY=1SU
TZNAME:CST
END:STANDARD
END:VTIMEZONE
BEGIN:VEVENT
UID:e817ea44-4328-427d-85ae-ff17b2320d3d.222917@calendar.missouristate.edu
CREATED:20221101T051515Z
LAST-MODIFIED:20221101T051515Z
LOCATION:Tuscon\, Ariz.
SUMMARY:Missouri State University Beach Volleyball at Colorado Mesa
DESCRIPTION:Missouri State University Beach Volleyball visits Colorado Mes
 aTV: ESPN3
X-ALT-DESC;FMTTYPE=text/html:&lt;html&gt;&lt;head&gt;&lt;title&gt;&lt;/title&gt;&lt;/head&gt;&lt;body&gt;Misso
 uri State University Beach Volleyball visits Colorado Mesa&lt;br&gt;&lt;br&gt;TV: ESP
 N3&lt;/body&gt;&lt;/html&gt;
DTSTART;TZID=America/Chicago:20230331T090000
DTEND;TZID=America/Chicago:20230331T110000
SEQUENCE:1
URL:http://missouristatebears.com/index.aspx?path=wvball
CATEGORIES:Current Students,Future Students,Parents and Family,Alumni,
 Faculty,Staff,Community,Visitors,Athletics
END:VEVENT
END:VCALENDAR