BEGIN:VCALENDAR
VERSION:2.0
METHOD:PUBLISH
PRODID:-//Missouri State University/Calendar of Events//EN
CALSCALE:GREGORIAN
X-WR-TIMEZONE:America/Chicago
BEGIN:VTIMEZONE
TZID:America/Chicago
BEGIN:DAYLIGHT
TZOFFSETFROM:-0600
TZOFFSETTO:-0500
DTSTART:20070311T020000
RRULE:FREQ=YEARLY;BYMONTH=3;BYDAY=2SU
TZNAME:CDT
END:DAYLIGHT
BEGIN:STANDARD
TZOFFSETFROM:-0500
TZOFFSETTO:-0600
DTSTART:20071104T020000
RRULE:FREQ=YEARLY;BYMONTH=11;BYDAY=1SU
TZNAME:CST
END:STANDARD
END:VTIMEZONE
BEGIN:VEVENT
UID:34e34ee0-50ed-466f-b73e-856246cc8d48.222920@calendar.missouristate.edu
CREATED:20221102T203525Z
LAST-MODIFIED:20221102T203525Z
LOCATION:Cheek Hall 102
SUMMARY:Computer Science Seminar - Midwestern Interactive
DESCRIPTION:Lynsee DeGraw is a Recruiter from Midwestern Interactive\, a l
 ocal tech company in Springfield. Lynsee will talk about the company\, th
 e general recruiting process\, and opportunities the company may have for
  our students. The seminar will focus on the recruitment process in the s
 oftware industry.
X-ALT-DESC;FMTTYPE=text/html:&lt;html&gt;&lt;head&gt;&lt;title&gt;&lt;/title&gt;&lt;/head&gt;&lt;body&gt;&lt;p&gt;Ly
 nsee DeGraw is a Recruiter from Midwestern Interactive\, a local tech com
 pany in Springfield. Lynsee will talk about the company\, the general rec
 ruiting process\, and opportunities the company may have for our students
 . The seminar will focus on the recruitment process in the software indus
 try.&lt;/p&gt;&lt;/body&gt;&lt;/html&gt;
DTSTART;TZID=America/Chicago:20221110T160000
DTEND;TZID=America/Chicago:20221110T170000
SEQUENCE:0
URL:
CATEGORIES:Current Students,Faculty,Staff
END:VEVENT
END:VCALENDAR