BEGIN:VCALENDAR
VERSION:2.0
METHOD:PUBLISH
PRODID:-//Missouri State University/Calendar of Events//EN
CALSCALE:GREGORIAN
X-WR-TIMEZONE:America/Chicago
BEGIN:VTIMEZONE
TZID:America/Chicago
BEGIN:DAYLIGHT
TZOFFSETFROM:-0600
TZOFFSETTO:-0500
DTSTART:20070311T020000
RRULE:FREQ=YEARLY;BYMONTH=3;BYDAY=2SU
TZNAME:CDT
END:DAYLIGHT
BEGIN:STANDARD
TZOFFSETFROM:-0500
TZOFFSETTO:-0600
DTSTART:20071104T020000
RRULE:FREQ=YEARLY;BYMONTH=11;BYDAY=1SU
TZNAME:CST
END:STANDARD
END:VTIMEZONE
BEGIN:VEVENT
UID:8c50a643-7a29-489e-83a0-0d3320f38a9d.222928@calendar.missouristate.edu
CREATED:20221104T174647Z
LAST-MODIFIED:20221104T174647Z
LOCATION:Plaster Stadium\, Robert W. Ballroom
SUMMARY:Vietnamese Banquet and Show - Four Palaces 
DESCRIPTION:Celebrate the first-ever Vietnamese Banquet and Show. The them
 e is Four Palaces\, which are Heaven Palace\, Mountain Palace\, Water Pal
 ace and Earth Palace. \n\n\nEnjoy dinner before the show with over 10 dif
 ferent authentic Vietnamese cuisines. Look forward to a wonderful perform
 ance that is put together by Vietnamese Students Association of Missouri 
 State University!
X-ALT-DESC;FMTTYPE=text/html:&lt;html&gt;&lt;head&gt;&lt;title&gt;&lt;/title&gt;&lt;/head&gt;&lt;body&gt;&lt;p&gt;Ce
 lebrate the&amp;nbsp\;first-ever Vietnamese Banquet and Show. The theme is Fo
 ur Palaces\, which are Heaven Palace\, Mountain Palace\, Water Palace and
  Earth Palace.&amp;nbsp\;&lt;/p&gt;\n&lt;p&gt;Enjoy dinner before the show with over 10 d
 ifferent authentic Vietnamese cuisines. Look forward to a wonderful perfo
 rmance that is put together by Vietnamese Students Association of Missour
 i State University!&lt;span&gt;&lt;/span&gt;&lt;/p&gt;&lt;/body&gt;&lt;/html&gt;
DTSTART;TZID=America/Chicago:20221112T180000
DTEND;TZID=America/Chicago:20221112T213000
SEQUENCE:0
URL:https://www.facebook.com/VSA.MSU.MO
CATEGORIES:Public,Alumni,Current Students,Faculty,Future Students,Staff
END:VEVENT
END:VCALENDAR