BEGIN:VCALENDAR
VERSION:2.0
METHOD:PUBLISH
PRODID:-//Missouri State University/Calendar of Events//EN
CALSCALE:GREGORIAN
X-WR-TIMEZONE:America/Chicago
BEGIN:VTIMEZONE
TZID:America/Chicago
BEGIN:DAYLIGHT
TZOFFSETFROM:-0600
TZOFFSETTO:-0500
DTSTART:20070311T020000
RRULE:FREQ=YEARLY;BYMONTH=3;BYDAY=2SU
TZNAME:CDT
END:DAYLIGHT
BEGIN:STANDARD
TZOFFSETFROM:-0500
TZOFFSETTO:-0600
DTSTART:20071104T020000
RRULE:FREQ=YEARLY;BYMONTH=11;BYDAY=1SU
TZNAME:CST
END:STANDARD
END:VTIMEZONE
BEGIN:VEVENT
UID:df50adff-40ba-4b95-b638-6e2e2b548c08.222936@calendar.missouristate.edu
CREATED:20221107T205212Z
LAST-MODIFIED:20221107T205212Z
LOCATION:Plaster Student Union\, Robert W. Ballroom West
SUMMARY:International Student Thanksgiving Celebration
DESCRIPTION:International students are invited to join us as we celebrate 
 new traditions and show gratitude with a brief program and a traditional 
 Thanksgiving meal. Register to attend online. Limited to 250 internationa
 l students. 
X-ALT-DESC;FMTTYPE=text/html:&lt;html&gt;&lt;head&gt;&lt;title&gt;&lt;/title&gt;&lt;/head&gt;&lt;body&gt;&lt;p&gt;&lt;s
 pan&gt;International students are invited to join&amp;nbsp\;us as we celebrate n
 ew traditions and show gratitude with a brief program and a traditional T
 hanksgiving meal.&amp;nbsp\;&lt;br&gt;&lt;br&gt;&lt;a href="https://forms.office.com/r/hqscT
 R00cv"&gt;Register to attend online&lt;/a&gt;. Limited to 250 international studen
 ts.&amp;nbsp\;&lt;/span&gt;&lt;/p&gt;&lt;/body&gt;&lt;/html&gt;
DTSTART;TZID=America/Chicago:20221118T171500
DTEND;TZID=America/Chicago:20221118T200000
SEQUENCE:0
URL:https://forms.office.com/r/hqscTR00cv
CATEGORIES:Current Students
END:VEVENT
END:VCALENDAR