BEGIN:VCALENDAR
VERSION:2.0
METHOD:PUBLISH
PRODID:-//Missouri State University/Calendar of Events//EN
CALSCALE:GREGORIAN
X-WR-TIMEZONE:America/Chicago
BEGIN:VTIMEZONE
TZID:America/Chicago
BEGIN:DAYLIGHT
TZOFFSETFROM:-0600
TZOFFSETTO:-0500
DTSTART:20070311T020000
RRULE:FREQ=YEARLY;BYMONTH=3;BYDAY=2SU
TZNAME:CDT
END:DAYLIGHT
BEGIN:STANDARD
TZOFFSETFROM:-0500
TZOFFSETTO:-0600
DTSTART:20071104T020000
RRULE:FREQ=YEARLY;BYMONTH=11;BYDAY=1SU
TZNAME:CST
END:STANDARD
END:VTIMEZONE
BEGIN:VEVENT
UID:d211ef3b-53e0-4ed0-a427-21fc7a838351.222937@calendar.missouristate.edu
CREATED:20221107T210410Z
LAST-MODIFIED:20221107T210410Z
LOCATION:Plaster Student Union\, Robert W. 308 B&amp;C
SUMMARY:Resume Building for Your Future
DESCRIPTION:As you prepare to begin your job search\, it is important to l
 earn the skills to market yourself properly. Learn from specialists from 
 the Career Center on the best ways to make a resume that stands out\, spe
 aks to your skills\, and highlights your experiences as an international 
 student. \n\n\nHosted by the Career Center\, International Programs' Care
  and Advocacy Team (CAT)\, and the I Succeed Center for International Stu
 dents. \n\n\nRegister online. 
X-ALT-DESC;FMTTYPE=text/html:&lt;html&gt;&lt;head&gt;&lt;title&gt;&lt;/title&gt;&lt;/head&gt;&lt;body&gt;&lt;p&gt;As
  you prepare to begin your job search\, it is important to learn the skil
 ls to market yourself properly. Learn from specialists from the Career Ce
 nter on the best ways to make a resume that stands out\, speaks to your s
 kills\, and highlights your experiences as an international student.&amp;nbsp
 \;&lt;/p&gt;\n&lt;p&gt;Hosted by the Career Center\, International Programs' Care and
  Advocacy Team (CAT)\, and the I Succeed Center for International Student
 s.&amp;nbsp\;&lt;/p&gt;\n&lt;p&gt;&lt;a href="https://forms.office.com/pages/responsepage.as
 px?id=5DDYyk9VYUO65chlIz-3f2Glf5DYMB9LvWZttTV9OYpUODdXSllZUkU5S0UyRE9FWEE
 4T0pEMkVQQyQlQCN0PWcu"&gt;Register online.&amp;nbsp\;&lt;/a&gt;&lt;/p&gt;&lt;/body&gt;&lt;/html&gt;
DTSTART;TZID=America/Chicago:20221109T140000
DTEND;TZID=America/Chicago:20221109T150000
SEQUENCE:1
URL:https://forms.office.com/pages/responsepage.aspx?id=5DDYyk9VYUO65chlIz
 -3f2Glf5DYMB9LvWZttTV9OYpUODdXSllZUkU5S0UyRE9FWEE4T0pEMkVQQyQlQCN0PWcu
CATEGORIES:Current Students
END:VEVENT
END:VCALENDAR