BEGIN:VCALENDAR
VERSION:2.0
METHOD:PUBLISH
PRODID:-//Missouri State University/Calendar of Events//EN
CALSCALE:GREGORIAN
X-WR-TIMEZONE:America/Chicago
BEGIN:VTIMEZONE
TZID:America/Chicago
BEGIN:DAYLIGHT
TZOFFSETFROM:-0600
TZOFFSETTO:-0500
DTSTART:20070311T020000
RRULE:FREQ=YEARLY;BYMONTH=3;BYDAY=2SU
TZNAME:CDT
END:DAYLIGHT
BEGIN:STANDARD
TZOFFSETFROM:-0500
TZOFFSETTO:-0600
DTSTART:20071104T020000
RRULE:FREQ=YEARLY;BYMONTH=11;BYDAY=1SU
TZNAME:CST
END:STANDARD
END:VTIMEZONE
BEGIN:VEVENT
UID:c63ed756-f868-4753-a687-fdaf7f79c8d9.222938@calendar.missouristate.edu
CREATED:20221107T210256Z
LAST-MODIFIED:20221107T210256Z
LOCATION:Plaster Student Union\, Robert W. 308 B&amp;C
SUMMARY:Perfect Job Hunting
DESCRIPTION:Looking for the right job that fits you and your skills can be
  a nerve-wracking experience\, especially for international students. The
 re are many factors to consider when looking for employment. Learn from t
 hose experienced with the process to find the best ways to navigate the j
 ob market\, highlight your skills\, and gain special tips for internation
 al applicants. \n\n\nThis event is hosted by the Career Center\, Internat
 ional Programs' Care and Advocacy Team (CAT)\, and the I Succeed Center f
 or International Student Success. \n\n\nRegister online. 
X-ALT-DESC;FMTTYPE=text/html:&lt;html&gt;&lt;head&gt;&lt;title&gt;&lt;/title&gt;&lt;/head&gt;&lt;body&gt;&lt;p&gt;Lo
 oking for the right job that fits you and your skills can be a nerve-wrac
 king experience\, especially for international students. There are many f
 actors to consider when looking for employment. Learn from those experien
 ced with the process to find the best ways to navigate the job market\, h
 ighlight your skills\, and&amp;nbsp\;gain special tips for international appl
 icants.&amp;nbsp\;&lt;/p&gt;\n&lt;p&gt;This event is hosted by the Career Center\, Intern
 ational Programs' Care and Advocacy Team (CAT)\, and the I Succeed Center
  for International Student Success.&amp;nbsp\;&lt;br&gt;&lt;br&gt;&lt;/p&gt;\n&lt;p&gt;&lt;a href="https
 ://forms.office.com/pages/responsepage.aspx?id=5DDYyk9VYUO65chlIz-3f2Glf5
 DYMB9LvWZttTV9OYpUODdXSllZUkU5S0UyRE9FWEE4T0pEMkVQQyQlQCN0PWcu"&gt;Register 
 online&lt;/a&gt;.&amp;nbsp\;&lt;/p&gt;&lt;/body&gt;&lt;/html&gt;
DTSTART;TZID=America/Chicago:20221116T140000
DTEND;TZID=America/Chicago:20221116T150000
SEQUENCE:0
URL:https://forms.office.com/pages/responsepage.aspx?id=5DDYyk9VYUO65chlIz
 -3f2Glf5DYMB9LvWZttTV9OYpUODdXSllZUkU5S0UyRE9FWEE4T0pEMkVQQyQlQCN0PWcu
CATEGORIES:Current Students
END:VEVENT
END:VCALENDAR