BEGIN:VCALENDAR
VERSION:2.0
METHOD:PUBLISH
PRODID:-//Missouri State University/Calendar of Events//EN
CALSCALE:GREGORIAN
X-WR-TIMEZONE:America/Chicago
BEGIN:VTIMEZONE
TZID:America/Chicago
BEGIN:DAYLIGHT
TZOFFSETFROM:-0600
TZOFFSETTO:-0500
DTSTART:20070311T020000
RRULE:FREQ=YEARLY;BYMONTH=3;BYDAY=2SU
TZNAME:CDT
END:DAYLIGHT
BEGIN:STANDARD
TZOFFSETFROM:-0500
TZOFFSETTO:-0600
DTSTART:20071104T020000
RRULE:FREQ=YEARLY;BYMONTH=11;BYDAY=1SU
TZNAME:CST
END:STANDARD
END:VTIMEZONE
BEGIN:VEVENT
UID:42510be6-07f7-4a72-8d93-a4e847b077ba.222939@calendar.missouristate.edu
CREATED:20221107T211514Z
LAST-MODIFIED:20221107T211514Z
LOCATION:Plaster Student Union\, Robert W. 308 B&amp;C
SUMMARY:Pursuing Academic Success
DESCRIPTION:Learn about everything from academic integrity to writing tips
  to ensure academic success when studying in the United States. Through a
  hands-on workshop\, the I Succeed Center will share tips to better under
 stand and navigate education in the US and provide resources for students
  to use throughout the year.\n\n\nHosted by the International Programs I 
 Succeed Center for International Students.\n\n\nRegister online.
X-ALT-DESC;FMTTYPE=text/html:&lt;html&gt;&lt;head&gt;&lt;title&gt;&lt;/title&gt;&lt;/head&gt;&lt;body&gt;&lt;p&gt;&lt;s
 pan&gt;Learn about everything from academic integrity to writing tips to ens
 ure academic success when studying in the United States. Through a hands-
 on workshop\, the I Succeed Center will share tips to better understand a
 nd navigate education in the US and provide resources for students to use
  throughout the year.&lt;/span&gt;&lt;/p&gt;\n&lt;p&gt;&lt;span&gt;Hosted by the International Pr
 ograms I Succeed Center for International Students.&lt;/span&gt;&lt;/p&gt;\n&lt;p&gt;&lt;span&gt;
 &lt;a href="https://forms.office.com/pages/responsepage.aspx?id=5DDYyk9VYUO6
 5chlIz-3f2Glf5DYMB9LvWZttTV9OYpUODdXSllZUkU5S0UyRE9FWEE4T0pEMkVQQyQlQCN0P
 Wcu"&gt;Register online.&lt;/a&gt; &lt;/span&gt;&lt;/p&gt;&lt;/body&gt;&lt;/html&gt;
DTSTART;TZID=America/Chicago:20221102T140000
DTEND;TZID=America/Chicago:20221102T150000
SEQUENCE:0
URL:https://forms.office.com/pages/responsepage.aspx?id=5DDYyk9VYUO65chlIz
 -3f2Glf5DYMB9LvWZttTV9OYpUODdXSllZUkU5S0UyRE9FWEE4T0pEMkVQQyQlQCN0PWcu
CATEGORIES:Current Students
END:VEVENT
END:VCALENDAR