BEGIN:VCALENDAR
VERSION:2.0
METHOD:PUBLISH
PRODID:-//Missouri State University/Calendar of Events//EN
CALSCALE:GREGORIAN
X-WR-TIMEZONE:America/Chicago
BEGIN:VTIMEZONE
TZID:America/Chicago
BEGIN:DAYLIGHT
TZOFFSETFROM:-0600
TZOFFSETTO:-0500
DTSTART:20070311T020000
RRULE:FREQ=YEARLY;BYMONTH=3;BYDAY=2SU
TZNAME:CDT
END:DAYLIGHT
BEGIN:STANDARD
TZOFFSETFROM:-0500
TZOFFSETTO:-0600
DTSTART:20071104T020000
RRULE:FREQ=YEARLY;BYMONTH=11;BYDAY=1SU
TZNAME:CST
END:STANDARD
END:VTIMEZONE
BEGIN:VEVENT
UID:8d78129a-fcf5-4aff-b258-544cebdb6dc5.222962@calendar.missouristate.edu
CREATED:20221117T184003Z
LAST-MODIFIED:20221117T184003Z
LOCATION:Plaster Student Union\, Robert W. PSU Ballroom West
SUMMARY:The Neurodiversity Podcast with Emily Kircher-Morris
DESCRIPTION:Hey Bears! Let's make space for everyone.\n\n\nWant to learn h
 ow to make your classes\, events and organizations more welcoming and inc
 lusive?\n\n\nDon't miss these two opportunities on Nov. 10 to learn about
  creating space for neurodiversity on campus. \n\n\n\nKeynote: Neurodiver
 sity: A Little Weird is Good\, 12-1 p.m.\, PSU Ballroom West\nWorkshop: C
 reating a Neurodiversity-Affirming World\, 4 p.m.\, PSU Room 314
X-ALT-DESC;FMTTYPE=text/html:&lt;html&gt;&lt;head&gt;&lt;title&gt;&lt;/title&gt;&lt;/head&gt;&lt;body&gt;&lt;p&gt;&lt;s
 trong&gt;Hey Bears! Let's make space for everyone.&lt;/strong&gt;&lt;/p&gt;\n&lt;p&gt;Want to 
 learn how to make your classes\, events and organizations more welcoming 
 and inclusive?&lt;/p&gt;\n&lt;p&gt;Don't miss these two opportunities on&amp;nbsp\;Nov. 1
 0 to learn about creating space for neurodiversity on campus.&amp;nbsp\;&lt;/p&gt;\
 n&lt;ul&gt;\n&lt;li&gt;Keynote:&amp;nbsp\;Neurodiversity: A Little Weird is Good\, 12-1 p
 .m.\, PSU Ballroom West&lt;/li&gt;\n&lt;li&gt;Workshop: Creating a Neurodiversity-Aff
 irming World\, 4 p.m.\, PSU Room 314&lt;/li&gt;\n&lt;/ul&gt;&lt;/body&gt;&lt;/html&gt;
DTSTART;TZID=America/Chicago:20221110T120000
DTEND;TZID=America/Chicago:20221110T130000
SEQUENCE:0
URL:https://neurodiversitypodcast.com/
CATEGORIES:Current Students,Faculty,Staff
END:VEVENT
END:VCALENDAR