BEGIN:VCALENDAR
VERSION:2.0
METHOD:PUBLISH
PRODID:-//Missouri State University/Calendar of Events//EN
CALSCALE:GREGORIAN
X-WR-TIMEZONE:America/Chicago
BEGIN:VTIMEZONE
TZID:America/Chicago
BEGIN:DAYLIGHT
TZOFFSETFROM:-0600
TZOFFSETTO:-0500
DTSTART:20070311T020000
RRULE:FREQ=YEARLY;BYMONTH=3;BYDAY=2SU
TZNAME:CDT
END:DAYLIGHT
BEGIN:STANDARD
TZOFFSETFROM:-0500
TZOFFSETTO:-0600
DTSTART:20071104T020000
RRULE:FREQ=YEARLY;BYMONTH=11;BYDAY=1SU
TZNAME:CST
END:STANDARD
END:VTIMEZONE
BEGIN:VEVENT
UID:30176986-9308-4abb-9938-7eaac6beed57.222973@calendar.missouristate.edu
CREATED:20221129T215151Z
LAST-MODIFIED:20221129T215151Z
LOCATION:Plaster Student Union\, Robert W. Atrium
SUMMARY:SAC Presents: Take a Chance
DESCRIPTION:Come join SAC to test your luck with our prize wheel! Win anyt
 hing from candy bars to an air fryer!
X-ALT-DESC;FMTTYPE=text/html:&lt;html&gt;&lt;head&gt;&lt;title&gt;&lt;/title&gt;&lt;/head&gt;&lt;body&gt;&lt;p&gt;Co
 me join SAC to test your luck with our prize wheel! Win anything from can
 dy bars to an air fryer!&lt;/p&gt;&lt;/body&gt;&lt;/html&gt;
DTSTART;TZID=America/Chicago:20221130T110000
DTEND;TZID=America/Chicago:20221130T130000
SEQUENCE:0
URL:116815.jpg
CATEGORIES:Current Students,Faculty,Staff
END:VEVENT
END:VCALENDAR