BEGIN:VCALENDAR
VERSION:2.0
METHOD:PUBLISH
PRODID:-//Missouri State University/Calendar of Events//EN
CALSCALE:GREGORIAN
X-WR-TIMEZONE:America/Chicago
BEGIN:VTIMEZONE
TZID:America/Chicago
BEGIN:DAYLIGHT
TZOFFSETFROM:-0600
TZOFFSETTO:-0500
DTSTART:20070311T020000
RRULE:FREQ=YEARLY;BYMONTH=3;BYDAY=2SU
TZNAME:CDT
END:DAYLIGHT
BEGIN:STANDARD
TZOFFSETFROM:-0500
TZOFFSETTO:-0600
DTSTART:20071104T020000
RRULE:FREQ=YEARLY;BYMONTH=11;BYDAY=1SU
TZNAME:CST
END:STANDARD
END:VTIMEZONE
BEGIN:VEVENT
UID:db858d34-097e-4fce-aea6-ce2f629c279b.222975@calendar.missouristate.edu
CREATED:20221129T215751Z
LAST-MODIFIED:20221129T215751Z
LOCATION:Plaster Student Union\, Robert W. Food Court
SUMMARY:Holiday Happenings!
DESCRIPTION:The Missouri State University Ambassadors and the Office of Ad
 missions cordially invite you to attend Holiday Happenings! The children 
 and grandchildren of Missouri State faculty and staff members will have t
 he opportunity to decorate cookies\, have their picture taken with Santa\
 , create holiday crafts\, play games and engage in other seasonal activit
 ies.\n\n\nRSVP for this fun and FREE event by Dec. 1
X-ALT-DESC;FMTTYPE=text/html:&lt;html&gt;&lt;head&gt;&lt;title&gt;&lt;/title&gt;&lt;/head&gt;&lt;body&gt;&lt;p&gt;Th
 e Missouri State University Ambassadors and the Office of Admissions cord
 ially invite you to attend &lt;b&gt;Holiday Happenings!&lt;/b&gt; The children and gr
 andchildren of Missouri State faculty and staff members will have the opp
 ortunity to decorate cookies\, have their picture taken with Santa\, crea
 te holiday crafts\, play games and engage in other seasonal activities.&lt;/
 p&gt;\n&lt;p&gt;&lt;a href="http://www.MissouriState.edu/HolidayHappenings"&gt;&lt;b&gt;&lt;span&gt;
 RSVP&lt;/span&gt;&lt;/b&gt;&lt;span&gt; for this fun and &lt;b&gt;FREE&lt;/b&gt; event by Dec. 1&lt;/span&gt;
 &lt;/a&gt;&lt;/p&gt;&lt;/body&gt;&lt;/html&gt;
DTSTART;TZID=America/Chicago:20221203T100000
DTEND;TZID=America/Chicago:20221203T120000
SEQUENCE:0
URL:http://www.MissouriState.edu/HolidayHappenings
CATEGORIES:Faculty,Staff
END:VEVENT
END:VCALENDAR