BEGIN:VCALENDAR
VERSION:2.0
METHOD:PUBLISH
PRODID:-//Missouri State University/Calendar of Events//EN
CALSCALE:GREGORIAN
X-WR-TIMEZONE:America/Chicago
BEGIN:VTIMEZONE
TZID:America/Chicago
BEGIN:DAYLIGHT
TZOFFSETFROM:-0600
TZOFFSETTO:-0500
DTSTART:20070311T020000
RRULE:FREQ=YEARLY;BYMONTH=3;BYDAY=2SU
TZNAME:CDT
END:DAYLIGHT
BEGIN:STANDARD
TZOFFSETFROM:-0500
TZOFFSETTO:-0600
DTSTART:20071104T020000
RRULE:FREQ=YEARLY;BYMONTH=11;BYDAY=1SU
TZNAME:CST
END:STANDARD
END:VTIMEZONE
BEGIN:VEVENT
UID:9f391703-9802-4932-bb9b-5b2a6906454a_8960@calendar.missouristate.edu
CREATED:20221118T203033Z
LAST-MODIFIED:20221118T203033Z
LOCATION:To Be Determined
SUMMARY:Family Weekend 2023
DESCRIPTION:Make plans to join us for Family Weekend 2023\, Sept. 22-24. T
 his special weekend gives you\, our family members and friends\, an oppor
 tunity to experience campus life at Missouri State\, spend time with your
  student and enjoy lots of fun events.\n\n\nEvents include the annual Wel
 come Breakfast\, Bear Family Tailgate\, BearWear Bingo-Family Edition\, a
  football game and more.\n\n\nTickets will go on sale in July 2023.
X-ALT-DESC;FMTTYPE=text/html:&lt;html&gt;&lt;head&gt;&lt;title&gt;&lt;/title&gt;&lt;/head&gt;&lt;body&gt;&lt;p&gt;Ma
 ke plans to join us for Family Weekend 2023\, Sept. 22-24. This special w
 eekend gives you\, our family members and friends\, an opportunity to exp
 erience campus life at Missouri State\, spend time with your student and 
 enjoy lots of fun events.&lt;/p&gt;\n&lt;p&gt;Events include the annual Welcome Break
 fast\, Bear Family Tailgate\, BearWear Bingo-Family Edition\, a football 
 game and more.&lt;/p&gt;\n&lt;p&gt;Tickets will go on sale in July 2023.&lt;/p&gt;&lt;/body&gt;&lt;/
 html&gt;
DTSTART;TZID=America/Chicago:20230922T160000
DTEND;TZID=America/Chicago:20230922T220000
RRULE:FREQ=DAILY;UNTIL=20230925
SEQUENCE:0
URL:https://www.missouristate.edu/BearsFamilies/familyweekend.htm
CATEGORIES:Public,Alumni,Current Students,Faculty,Future Students,Staff
END:VEVENT
END:VCALENDAR