BEGIN:VCALENDAR
VERSION:2.0
METHOD:PUBLISH
PRODID:-//Missouri State University/Calendar of Events//EN
CALSCALE:GREGORIAN
X-WR-TIMEZONE:America/Chicago
BEGIN:VTIMEZONE
TZID:America/Chicago
BEGIN:DAYLIGHT
TZOFFSETFROM:-0600
TZOFFSETTO:-0500
DTSTART:20070311T020000
RRULE:FREQ=YEARLY;BYMONTH=3;BYDAY=2SU
TZNAME:CDT
END:DAYLIGHT
BEGIN:STANDARD
TZOFFSETFROM:-0500
TZOFFSETTO:-0600
DTSTART:20071104T020000
RRULE:FREQ=YEARLY;BYMONTH=11;BYDAY=1SU
TZNAME:CST
END:STANDARD
END:VTIMEZONE
BEGIN:VEVENT
UID:a25f572d-ab5a-4abe-abc0-3500dee4b49e.222979@calendar.missouristate.edu
CREATED:20221117T210256Z
LAST-MODIFIED:20221117T210256Z
LOCATION:Brick City 1
SUMMARY:CLAYWORKS Student Pottery Sale
DESCRIPTION:The Clayworks Student Organization of the Department of Art + 
 Design at Missouri State Unviersity will host the fall semester pottery s
 ale once again!\n\n\nThe sale will take place in downtown Springfield at 
 MSU’s Brick City Building 1 on Dec. 1 and at the Brick City Galleries ent
 rance to Buildings 3 and 4 on Dec. 2 during First Friday Artwalk.\n\n\nTh
 ere will be a good variety of ceramic forms available for you to purchase
  and as always\, we can accept either cash or cards.\n\n\nHope to see you
  there!
X-ALT-DESC;FMTTYPE=text/html:&lt;html&gt;&lt;head&gt;&lt;title&gt;&lt;/title&gt;&lt;/head&gt;&lt;body&gt;&lt;p&gt;Th
 e Clayworks Student Organization of the Department of Art + Design at Mis
 souri State Unviersity will host the fall semester pottery sale once agai
 n!&lt;/p&gt;\n&lt;p&gt;The sale will take place in downtown Springfield at MSU’s Bric
 k City Building 1 on Dec. 1 and at the Brick City Galleries entrance to B
 uildings 3 and 4 on Dec. 2&amp;nbsp\;during First Friday Artwalk.&lt;/p&gt;\n&lt;p&gt;The
 re will be a good variety of ceramic forms available for you to purchase 
 and as always\, we can accept either cash or cards.&lt;/p&gt;\n&lt;p&gt;Hope to see y
 ou there!&lt;/p&gt;&lt;/body&gt;&lt;/html&gt;
DTSTART;TZID=America/Chicago:20221201T083000
DTEND;TZID=America/Chicago:20221201T170000
SEQUENCE:0
URL:https://www.facebook.com/MissouriStateClayworks 
CATEGORIES:Public,Alumni,Current Students,Faculty,Future Students,Staff
END:VEVENT
END:VCALENDAR