BEGIN:VCALENDAR
VERSION:2.0
METHOD:PUBLISH
PRODID:-//Missouri State University/Calendar of Events//EN
CALSCALE:GREGORIAN
X-WR-TIMEZONE:America/Chicago
BEGIN:VTIMEZONE
TZID:America/Chicago
BEGIN:DAYLIGHT
TZOFFSETFROM:-0600
TZOFFSETTO:-0500
DTSTART:20070311T020000
RRULE:FREQ=YEARLY;BYMONTH=3;BYDAY=2SU
TZNAME:CDT
END:DAYLIGHT
BEGIN:STANDARD
TZOFFSETFROM:-0500
TZOFFSETTO:-0600
DTSTART:20071104T020000
RRULE:FREQ=YEARLY;BYMONTH=11;BYDAY=1SU
TZNAME:CST
END:STANDARD
END:VTIMEZONE
BEGIN:VEVENT
UID:a8ba1dcf-d20a-423f-954b-1529b202ab8a.223059@calendar.missouristate.edu
CREATED:20221114T190539Z
LAST-MODIFIED:20221114T190539Z
LOCATION:Carrington Hall 208
SUMMARY:Fall 2022 Student Invitational Reading
DESCRIPTION:Each semester\, the Creative Writing faculty at MSU chooses a 
 handful of students to present their work in public. This semester\, the 
 following students will read their from their work: Israel Budd (poetry)\
 ; Frazier (graphic narrative)\; Sarah Padfield (poetry)\; Blake Peery (fi
 ction)\; Andy Rolwes (fiction)\; and Eleanor Wynne (fiction). It is a ple
 asure to see what these up-and coming artists are working on\, to see how
  much talent we have at Missouri State!
X-ALT-DESC;FMTTYPE=text/html:&lt;html&gt;&lt;head&gt;&lt;title&gt;&lt;/title&gt;&lt;/head&gt;&lt;body&gt;&lt;p&gt;Ea
 ch semester\, the Creative Writing faculty at MSU chooses a handful of st
 udents to present&amp;nbsp\;their work in public. This semester\, the followi
 ng students will read their from their work: Israel Budd (poetry)\; Frazi
 er (graphic narrative)\; Sarah Padfield (poetry)\; Blake Peery (fiction)\
 ; Andy Rolwes (fiction)\; and Eleanor Wynne (fiction). It is a pleasure t
 o see what these up-and coming artists are working on\, to see how much t
 alent we have at Missouri State!&lt;/p&gt;&lt;/body&gt;&lt;/html&gt;
DTSTART;TZID=America/Chicago:20221202T190000
DTEND;TZID=America/Chicago:20221202T203000
SEQUENCE:0
URL:https://english.missouristate.edu
CATEGORIES:Public,Alumni,Current Students,Faculty,Future Students,Staff
END:VEVENT
END:VCALENDAR