BEGIN:VCALENDAR
VERSION:2.0
METHOD:PUBLISH
PRODID:-//Missouri State University/Calendar of Events//EN
CALSCALE:GREGORIAN
X-WR-TIMEZONE:America/Chicago
BEGIN:VTIMEZONE
TZID:America/Chicago
BEGIN:DAYLIGHT
TZOFFSETFROM:-0600
TZOFFSETTO:-0500
DTSTART:20070311T020000
RRULE:FREQ=YEARLY;BYMONTH=3;BYDAY=2SU
TZNAME:CDT
END:DAYLIGHT
BEGIN:STANDARD
TZOFFSETFROM:-0500
TZOFFSETTO:-0600
DTSTART:20071104T020000
RRULE:FREQ=YEARLY;BYMONTH=11;BYDAY=1SU
TZNAME:CST
END:STANDARD
END:VTIMEZONE
BEGIN:VEVENT
UID:24fea3d6-84f5-4af6-bf8d-0ae5236272c7.223064@calendar.missouristate.edu
CREATED:20221115T164304Z
LAST-MODIFIED:20221115T164304Z
LOCATION:Meyer Alumni Center\, Kenneth E. Turner Hospitality Room
SUMMARY:Downtown Blood Drive
DESCRIPTION:Blood Drive\n\n\nWalk-ins welcome!\n\n\nTo schedule an appoint
 ment\, call 1-800-733-2767 or visit The Red Cross website.
X-ALT-DESC;FMTTYPE=text/html:&lt;html&gt;&lt;head&gt;&lt;title&gt;&lt;/title&gt;&lt;/head&gt;&lt;body&gt;&lt;p&gt;Bl
 ood Drive&lt;/p&gt;\n&lt;p&gt;Walk-ins welcome!&lt;/p&gt;\n&lt;p&gt;To schedule an appointment\, 
 call 1-800-733-2767 or visit&amp;nbsp\;&lt;a href="https://www.redcrossblood.org
 /"&gt;The Red Cross website&lt;/a&gt;.&lt;/p&gt;&lt;/body&gt;&lt;/html&gt;
DTSTART;TZID=America/Chicago:20221116T100000
DTEND;TZID=America/Chicago:20221116T140000
SEQUENCE:0
URL:
CATEGORIES:Public,Alumni,Current Students,Faculty,Staff
END:VEVENT
END:VCALENDAR