BEGIN:VCALENDAR
VERSION:2.0
METHOD:PUBLISH
PRODID:-//Missouri State University/Calendar of Events//EN
CALSCALE:GREGORIAN
X-WR-TIMEZONE:America/Chicago
BEGIN:VTIMEZONE
TZID:America/Chicago
BEGIN:DAYLIGHT
TZOFFSETFROM:-0600
TZOFFSETTO:-0500
DTSTART:20070311T020000
RRULE:FREQ=YEARLY;BYMONTH=3;BYDAY=2SU
TZNAME:CDT
END:DAYLIGHT
BEGIN:STANDARD
TZOFFSETFROM:-0500
TZOFFSETTO:-0600
DTSTART:20071104T020000
RRULE:FREQ=YEARLY;BYMONTH=11;BYDAY=1SU
TZNAME:CST
END:STANDARD
END:VTIMEZONE
BEGIN:VEVENT
UID:e7e3b494-94bd-4682-a07e-61337c1be52b.223073@calendar.missouristate.edu
CREATED:20221118T015004Z
LAST-MODIFIED:20221118T015004Z
LOCATION:West Plains Civic Center
SUMMARY:Grizzly Volleyball NJCAA Tournament Game 2
DESCRIPTION:vs. Western Nebraska @ 8 p.m.
X-ALT-DESC;FMTTYPE=text/html:&lt;html&gt;&lt;head&gt;&lt;title&gt;&lt;/title&gt;&lt;/head&gt;&lt;body&gt;&lt;p&gt;&lt;s
 pan&gt;vs.&lt;/span&gt;&lt;span&gt;&amp;nbsp\;Western Nebraska @ 8 p.m.&lt;/span&gt;&lt;/p&gt;&lt;/body&gt;&lt;/h
 tml&gt;
DTSTART;TZID=America/Chicago:20221117T193000
DTEND;TZID=America/Chicago:20221117T213000
SEQUENCE:0
URL:https://msuwpgrizzlies.com/sports/wvball/2022-23/schedule
CATEGORIES:Public,Alumni,Current Students,Faculty,Future Students,Staff
END:VEVENT
END:VCALENDAR