BEGIN:VCALENDAR
VERSION:2.0
METHOD:PUBLISH
PRODID:-//Missouri State University/Calendar of Events//EN
CALSCALE:GREGORIAN
X-WR-TIMEZONE:America/Chicago
BEGIN:VTIMEZONE
TZID:America/Chicago
BEGIN:DAYLIGHT
TZOFFSETFROM:-0600
TZOFFSETTO:-0500
DTSTART:20070311T020000
RRULE:FREQ=YEARLY;BYMONTH=3;BYDAY=2SU
TZNAME:CDT
END:DAYLIGHT
BEGIN:STANDARD
TZOFFSETFROM:-0500
TZOFFSETTO:-0600
DTSTART:20071104T020000
RRULE:FREQ=YEARLY;BYMONTH=11;BYDAY=1SU
TZNAME:CST
END:STANDARD
END:VTIMEZONE
BEGIN:VEVENT
UID:00000000-0000-0000-0000-000000000000.223074@calendar.missouristate.edu
CREATED:20221118T144526Z
LAST-MODIFIED:20221118T144526Z
LOCATION:To Be Determined
SUMMARY:Dallas Alumni Chapter Pregame Happy Hour
DESCRIPTION:Join the MSU Alumni Association at Buffalo Bros for a fun-fill
 ed happy hour before the Lady Bears take on TCU. \n\n\n 
X-ALT-DESC;FMTTYPE=text/html:&lt;html&gt;&lt;head&gt;&lt;title&gt;&lt;/title&gt;&lt;/head&gt;&lt;body&gt;&lt;p&gt;Jo
 in the MSU Alumni Association at Buffalo Bros for a fun-filled happy hour
  before the Lady Bears take on TCU.&amp;nbsp\;&lt;/p&gt;\n&lt;p&gt;&amp;nbsp\;&lt;/p&gt;&lt;/body&gt;&lt;/ht
 ml&gt;
DTSTART;TZID=America/Chicago:20221209T163000
DTEND;TZID=America/Chicago:20221209T183000
SEQUENCE:0
URL:https://missouristate.imodules.com?sid=1691&amp;gid=2&amp;pgid=2977&amp;cid=5247&amp;e
 cid=5247&amp;ciid=17496&amp;crid=0
CATEGORIES:Public,Alumni,Parents and Family,Visitors
END:VEVENT
END:VCALENDAR