BEGIN:VCALENDAR
VERSION:2.0
METHOD:PUBLISH
PRODID:-//Missouri State University/Calendar of Events//EN
CALSCALE:GREGORIAN
X-WR-TIMEZONE:America/Chicago
BEGIN:VTIMEZONE
TZID:America/Chicago
BEGIN:DAYLIGHT
TZOFFSETFROM:-0600
TZOFFSETTO:-0500
DTSTART:20070311T020000
RRULE:FREQ=YEARLY;BYMONTH=3;BYDAY=2SU
TZNAME:CDT
END:DAYLIGHT
BEGIN:STANDARD
TZOFFSETFROM:-0500
TZOFFSETTO:-0600
DTSTART:20071104T020000
RRULE:FREQ=YEARLY;BYMONTH=11;BYDAY=1SU
TZNAME:CST
END:STANDARD
END:VTIMEZONE
BEGIN:VEVENT
UID:e0ee2cf6-3d64-4059-83ad-a88a6db17c0c.223086@calendar.missouristate.edu
CREATED:20221122T061510Z
LAST-MODIFIED:20221122T061510Z
LOCATION:Springfield\, Cooper Tennis Complex
SUMMARY:Missouri State University Women's Tennis vs Southwest Baptist
DESCRIPTION:Missouri State University Women's Tennis plays Southwest Bapti
 st
X-ALT-DESC;FMTTYPE=text/html:&lt;html&gt;&lt;head&gt;&lt;title&gt;&lt;/title&gt;&lt;/head&gt;&lt;body&gt;Misso
 uri State University Women's Tennis plays Southwest Baptist&lt;/body&gt;&lt;/html&gt;
DTSTART;TZID=America/Chicago:20230223T130000
DTEND;TZID=America/Chicago:20230223T160000
SEQUENCE:2
URL:http://missouristatebears.com/index.aspx?path=wten
CATEGORIES:Current Students,Future Students,Parents and Family,Alumni,
 Faculty,Staff,Community,Visitors,Athletics
END:VEVENT
END:VCALENDAR