BEGIN:VCALENDAR
VERSION:2.0
METHOD:PUBLISH
PRODID:-//Missouri State University/Calendar of Events//EN
CALSCALE:GREGORIAN
X-WR-TIMEZONE:America/Chicago
BEGIN:VTIMEZONE
TZID:America/Chicago
BEGIN:DAYLIGHT
TZOFFSETFROM:-0600
TZOFFSETTO:-0500
DTSTART:20070311T020000
RRULE:FREQ=YEARLY;BYMONTH=3;BYDAY=2SU
TZNAME:CDT
END:DAYLIGHT
BEGIN:STANDARD
TZOFFSETFROM:-0500
TZOFFSETTO:-0600
DTSTART:20071104T020000
RRULE:FREQ=YEARLY;BYMONTH=11;BYDAY=1SU
TZNAME:CST
END:STANDARD
END:VTIMEZONE
BEGIN:VEVENT
UID:8a83020b-39e4-419a-8b43-8af8f4eeb189.223088@calendar.missouristate.edu
CREATED:20221122T061512Z
LAST-MODIFIED:20221122T061512Z
LOCATION:Springfield\, Cooper Tennis Complex
SUMMARY:Missouri State University Women's Tennis vs Missouri Western State
DESCRIPTION:Missouri State University Women's Tennis plays Missouri Wester
 n State
X-ALT-DESC;FMTTYPE=text/html:&lt;html&gt;&lt;head&gt;&lt;title&gt;&lt;/title&gt;&lt;/head&gt;&lt;body&gt;Misso
 uri State University Women's Tennis plays Missouri Western State&lt;/body&gt;&lt;/
 html&gt;
DTSTART;TZID=America/Chicago:20230310T130000
DTEND;TZID=America/Chicago:20230310T160000
SEQUENCE:2
URL:http://missouristatebears.com/index.aspx?path=wten
CATEGORIES:Current Students,Future Students,Parents and Family,Alumni,
 Faculty,Staff,Community,Visitors,Athletics
END:VEVENT
END:VCALENDAR