BEGIN:VCALENDAR
VERSION:2.0
METHOD:PUBLISH
PRODID:-//Missouri State University/Calendar of Events//EN
CALSCALE:GREGORIAN
X-WR-TIMEZONE:America/Chicago
BEGIN:VTIMEZONE
TZID:America/Chicago
BEGIN:DAYLIGHT
TZOFFSETFROM:-0600
TZOFFSETTO:-0500
DTSTART:20070311T020000
RRULE:FREQ=YEARLY;BYMONTH=3;BYDAY=2SU
TZNAME:CDT
END:DAYLIGHT
BEGIN:STANDARD
TZOFFSETFROM:-0500
TZOFFSETTO:-0600
DTSTART:20071104T020000
RRULE:FREQ=YEARLY;BYMONTH=11;BYDAY=1SU
TZNAME:CST
END:STANDARD
END:VTIMEZONE
BEGIN:VEVENT
UID:7516b675-8c98-4c56-805c-d1c371940d80.223113@calendar.missouristate.edu
CREATED:20221128T142843Z
LAST-MODIFIED:20221128T142843Z
LOCATION:Plaster Student Union\, Robert W. Ballroom
SUMMARY:President's Holiday Open House
DESCRIPTION:President's Holiday Open House for Faculty and Staff.
X-ALT-DESC;FMTTYPE=text/html:&lt;html&gt;&lt;head&gt;&lt;title&gt;&lt;/title&gt;&lt;/head&gt;&lt;body&gt;&lt;p&gt;Pr
 esident's Holiday Open House for Faculty and Staff.&lt;/p&gt;&lt;/body&gt;&lt;/html&gt;
DTSTART;TZID=America/Chicago:20221208T130000
DTEND;TZID=America/Chicago:20221208T150000
SEQUENCE:0
URL:
CATEGORIES:Faculty,Staff
END:VEVENT
END:VCALENDAR