BEGIN:VCALENDAR
VERSION:2.0
METHOD:PUBLISH
PRODID:-//Missouri State University/Calendar of Events//EN
CALSCALE:GREGORIAN
X-WR-TIMEZONE:America/Chicago
BEGIN:VTIMEZONE
TZID:America/Chicago
BEGIN:DAYLIGHT
TZOFFSETFROM:-0600
TZOFFSETTO:-0500
DTSTART:20070311T020000
RRULE:FREQ=YEARLY;BYMONTH=3;BYDAY=2SU
TZNAME:CDT
END:DAYLIGHT
BEGIN:STANDARD
TZOFFSETFROM:-0500
TZOFFSETTO:-0600
DTSTART:20071104T020000
RRULE:FREQ=YEARLY;BYMONTH=11;BYDAY=1SU
TZNAME:CST
END:STANDARD
END:VTIMEZONE
BEGIN:VEVENT
UID:5fe91696-b32c-4979-879f-b63baa60d8e2.223117@calendar.missouristate.edu
CREATED:20221206T034725Z
LAST-MODIFIED:20221206T034725Z
LOCATION:Meyer Library\, Duane G. 302
SUMMARY:Author Talk with Ernie Bedell 
DESCRIPTION:The Ozarks Studies Institute\, an initiative of the MSU Librar
 ies\, will host a free and open-to-the-public discussion with Ernie Bedel
 l as part of its ongoing author talk series.\n\n\nFree parking will be av
 ailable in Lot 19\, which is located at 919 S. John Q. Hammons Pkwy.\n\n\
 nDuring the talk\, Bedell will discuss his recently published book\, “Gen
 eration B Music and Melodies.” The book tells the story of the Bedell fam
 ily who\, through many generations\, contributed to the local\, regional\
 , and national music and songwriting scenes. The contributions of other t
 alented musicians and singers\, such as BeBop Brown\, Dallas Bartley\, an
 d the Philharmonics\, are also featured in Bedell’s book.\n\n\nMore on th
 e author\n\n\nBedell\, an accomplished musician\, was born into a large\,
  extended family of musicians and performers in the Springfield\, Missour
 i\, area. He’s played bass for a variety of bands since the 1960s\, inclu
 ding The KC Express\, which toured from the Midwest to California and had
  a hit song in the mid-1970s titled “This Is the Place.” His solo album\,
  “Let the Old Man Play\,” was released in 2016. He plays with the Arthur 
 Duncan Jazz Trio and the ABS Band among his other current pursuits.\n\n\n
 Thanks in part to a grant from the Route 66 Corridor Preservation Program
  of the National Park Service\, the MSU Libraries conducted an oral histo
 ry interview with Bedell in the fall of 2022. The interview can be watche
 d on the MSU Libraries YouTube channel.\n\n\nAbout our mission\n\n\nThe O
 zarks Studies Institute\, an initiative of the MSU Libraries\, seeks to p
 reserve the history and culture of the Ozarks by fostering a comprehensiv
 e knowledge of the Ozarks people and their heritage.
X-ALT-DESC;FMTTYPE=text/html:&lt;html&gt;&lt;head&gt;&lt;title&gt;&lt;/title&gt;&lt;/head&gt;&lt;body&gt;&lt;p&gt;Th
 e Ozarks Studies Institute\, an initiative of the MSU Libraries\, will ho
 st a free and open-to-the-public discussion with Ernie Bedell as part of 
 its ongoing author talk series.&lt;/p&gt;\n&lt;p&gt;Free parking will be available in
  Lot 19\, which is located at 919 S. John Q. Hammons Pkwy.&lt;/p&gt;\n&lt;p&gt;During
  the talk\, Bedell will discuss his recently published book\, “Generation
  B Music and Melodies.” The book tells the story of the Bedell family who
 \, through many generations\, contributed to the local\, regional\, and n
 ational music and songwriting scenes. The contributions of other talented
  musicians and singers\, such as BeBop Brown\, Dallas Bartley\, and the P
 hilharmonics\, are also featured in Bedell’s book.&lt;/p&gt;\n&lt;p&gt;&lt;strong&gt;More o
 n the author&lt;/strong&gt;&lt;/p&gt;\n&lt;p&gt;Bedell\, an accomplished musician\, was bor
 n into a large\, extended family of musicians and performers in the Sprin
 gfield\, Missouri\, area. He’s played bass for a variety of bands since t
 he 1960s\, including The KC Express\, which toured from the Midwest to Ca
 lifornia and had a hit song in the mid-1970s titled “This Is the Place.” 
 His solo album\, “Let the Old Man Play\,” was released in 2016. He plays 
 with the Arthur Duncan Jazz Trio and the ABS Band among his other current
  pursuits.&lt;/p&gt;\n&lt;p&gt;Thanks in part to a grant from the Route 66 Corridor P
 reservation Program of the National Park Service\, the MSU Libraries cond
 ucted an oral history interview with Bedell in the fall of 2022. The inte
 rview can be watched on the MSU Libraries &lt;a href="https://youtu.be/H6Aes
 b5Uv-M"&gt;YouTube channel&lt;/a&gt;.&lt;/p&gt;\n&lt;p&gt;&lt;strong&gt;About our mission&lt;/strong&gt;&lt;/
 p&gt;\n&lt;p&gt;The Ozarks Studies Institute\, an initiative of the MSU Libraries\
 , seeks to preserve the history and culture of the Ozarks by fostering a 
 comprehensive knowledge of the Ozarks people and their heritage.&lt;/p&gt;&lt;/bod
 y&gt;&lt;/html&gt;
DTSTART;TZID=America/Chicago:20221208T190000
DTEND;TZID=America/Chicago:20221208T200000
SEQUENCE:0
URL:116869.jpg
CATEGORIES:Public,Alumni,Current Students,Faculty,Staff
END:VEVENT
END:VCALENDAR