BEGIN:VCALENDAR
VERSION:2.0
METHOD:PUBLISH
PRODID:-//Missouri State University/Calendar of Events//EN
CALSCALE:GREGORIAN
X-WR-TIMEZONE:America/Chicago
BEGIN:VTIMEZONE
TZID:America/Chicago
BEGIN:DAYLIGHT
TZOFFSETFROM:-0600
TZOFFSETTO:-0500
DTSTART:20070311T020000
RRULE:FREQ=YEARLY;BYMONTH=3;BYDAY=2SU
TZNAME:CDT
END:DAYLIGHT
BEGIN:STANDARD
TZOFFSETFROM:-0500
TZOFFSETTO:-0600
DTSTART:20071104T020000
RRULE:FREQ=YEARLY;BYMONTH=11;BYDAY=1SU
TZNAME:CST
END:STANDARD
END:VTIMEZONE
BEGIN:VEVENT
UID:a42aab47-740d-4053-a0cd-dcd8ac033b41.223119@calendar.missouristate.edu
CREATED:20221129T165138Z
LAST-MODIFIED:20221129T165138Z
LOCATION:Meyer Library\, Duane G. 302
SUMMARY:What's Brewing at Your Library 
DESCRIPTION:Discover what’s new at the University Libraries as we celebrat
 e the end of the semester with beer\, food\, music and fun.\nThis event i
 s for MSU faculty and staff (21+) — no need to RSVP.\nFeatured breweries:
 • Hold Fast Brewing• Show-Me Brewing• Springfield Brewing Company• Wire R
 oad Brewing Company\nMusical entertainment by The Shandies.\nHors d’oeuvr
 es and nonalcoholic beverages by Chartwells.
X-ALT-DESC;FMTTYPE=text/html:&lt;html&gt;&lt;head&gt;&lt;title&gt;&lt;/title&gt;&lt;/head&gt;&lt;body&gt;&lt;div&gt;
 Discover what’s new at the University Libraries as we celebrate the end o
 f the semester with beer\, food\, music and fun.&lt;/div&gt;\n&lt;div&gt;This event i
 s for MSU faculty and staff (21+) — no need to RSVP.&lt;/div&gt;\n&lt;div&gt;Featured
  breweries:&lt;br&gt;•&amp;nbsp\;&lt;a href="https://www.hfbrewing.com/"&gt;Hold Fast Bre
 wing&lt;/a&gt;&lt;br&gt;•&amp;nbsp\;&lt;a href="https://showmebrewing.com/"&gt;Show-Me Brewing&lt;
 /a&gt;&lt;br&gt;•&amp;nbsp\;&lt;a href="https://springfieldbrewingco.com/"&gt;Springfield Br
 ewing Company&lt;/a&gt;&lt;br&gt;•&amp;nbsp\;&lt;a href="https://wireroadbrewing.com/"&gt;Wire 
 Road Brewing Company&lt;/a&gt;&lt;/div&gt;\n&lt;div&gt;Musical entertainment by &lt;a href="ht
 tps://www.facebook.com/SpringfieldShandies/"&gt;The Shandies&lt;/a&gt;.&lt;/div&gt;\n&lt;di
 v&gt;Hors d’oeuvres and nonalcoholic beverages by Chartwells.&lt;/div&gt;&lt;/body&gt;&lt;/
 html&gt;
DTSTART;TZID=America/Chicago:20221215T170000
DTEND;TZID=America/Chicago:20221215T190000
SEQUENCE:0
URL:116871.jpg
CATEGORIES:Faculty,Staff
END:VEVENT
END:VCALENDAR