BEGIN:VCALENDAR
VERSION:2.0
METHOD:PUBLISH
PRODID:-//Missouri State University/Calendar of Events//EN
CALSCALE:GREGORIAN
X-WR-TIMEZONE:America/Chicago
BEGIN:VTIMEZONE
TZID:America/Chicago
BEGIN:DAYLIGHT
TZOFFSETFROM:-0600
TZOFFSETTO:-0500
DTSTART:20070311T020000
RRULE:FREQ=YEARLY;BYMONTH=3;BYDAY=2SU
TZNAME:CDT
END:DAYLIGHT
BEGIN:STANDARD
TZOFFSETFROM:-0500
TZOFFSETTO:-0600
DTSTART:20071104T020000
RRULE:FREQ=YEARLY;BYMONTH=11;BYDAY=1SU
TZNAME:CST
END:STANDARD
END:VTIMEZONE
BEGIN:VEVENT
UID:1c985a23-3998-4921-9af5-4ba9e02c4a9e.223120@calendar.missouristate.edu
CREATED:20221206T034807Z
LAST-MODIFIED:20221206T034807Z
LOCATION:Brick City 3 1st floor\, west wing
SUMMARY:Brick City Jewelry Sale
DESCRIPTION:The Jewelry Student Association of the Department of Art + Des
 ign at Missouri State University will host the fall semester jewelry sale
 !\n\n\nCome visit Brick City (building 3) downtown to check out unique je
 welry pieces that students created. Sale proceeds benefit the student clu
 b to help pay for event trips such as Repair Days at the Metal Museum in 
 Memphis. \n\n\nHope to see you there!
X-ALT-DESC;FMTTYPE=text/html:&lt;html&gt;&lt;head&gt;&lt;title&gt;&lt;/title&gt;&lt;/head&gt;&lt;body&gt;&lt;p&gt;Th
 e Jewelry Student Association of the Department of Art + Design at Missou
 ri State University will host the fall semester jewelry sale!&lt;/p&gt;\n&lt;p&gt;Com
 e visit Brick City (building 3) downtown to check out unique jewelry piec
 es that students created. Sale proceeds benefit the student club to help 
 pay for event trips such as Repair Days at the Metal Museum in Memphis.&amp;n
 bsp\;&lt;/p&gt;\n&lt;p&gt;Hope to see you there!&lt;/p&gt;\n&lt;p&gt;&lt;/p&gt;\n&lt;p&gt;&lt;/p&gt;&lt;/body&gt;&lt;/html&gt;
DTSTART;TZID=America/Chicago:20221201T090000
DTEND;TZID=America/Chicago:20221201T170000
SEQUENCE:0
URL:116872.jpg
CATEGORIES:Public,Alumni,Current Students,Faculty,Future Students,Staff
END:VEVENT
END:VCALENDAR