BEGIN:VCALENDAR
VERSION:2.0
METHOD:PUBLISH
PRODID:-//Missouri State University/Calendar of Events//EN
CALSCALE:GREGORIAN
X-WR-TIMEZONE:America/Chicago
BEGIN:VTIMEZONE
TZID:America/Chicago
BEGIN:DAYLIGHT
TZOFFSETFROM:-0600
TZOFFSETTO:-0500
DTSTART:20070311T020000
RRULE:FREQ=YEARLY;BYMONTH=3;BYDAY=2SU
TZNAME:CDT
END:DAYLIGHT
BEGIN:STANDARD
TZOFFSETFROM:-0500
TZOFFSETTO:-0600
DTSTART:20071104T020000
RRULE:FREQ=YEARLY;BYMONTH=11;BYDAY=1SU
TZNAME:CST
END:STANDARD
END:VTIMEZONE
BEGIN:VEVENT
UID:00000000-0000-0000-0000-000000000000.223125@calendar.missouristate.edu
CREATED:20221129T220645Z
LAST-MODIFIED:20221129T220645Z
LOCATION:Glass Hall\, David D. 486
SUMMARY:Staff Senate Meeting 
DESCRIPTION:Join in the monthly Staff Senate meeting. Open to all staff.
X-ALT-DESC;FMTTYPE=text/html:&lt;html&gt;&lt;head&gt;&lt;title&gt;&lt;/title&gt;&lt;/head&gt;&lt;body&gt;&lt;p&gt;Jo
 in in the monthly Staff Senate meeting. Open to all staff.&lt;/p&gt;\n&lt;p&gt;&lt;/p&gt;&lt;/
 body&gt;&lt;/html&gt;
DTSTART;TZID=America/Chicago:20230406T110000
DTEND;TZID=America/Chicago:20230406T130000
SEQUENCE:0
URL:https://www.missouristate.edu/staffsenate/
CATEGORIES:Staff
END:VEVENT
END:VCALENDAR