BEGIN:VCALENDAR
VERSION:2.0
METHOD:PUBLISH
PRODID:-//Missouri State University/Calendar of Events//EN
CALSCALE:GREGORIAN
X-WR-TIMEZONE:America/Chicago
BEGIN:VTIMEZONE
TZID:America/Chicago
BEGIN:DAYLIGHT
TZOFFSETFROM:-0600
TZOFFSETTO:-0500
DTSTART:20070311T020000
RRULE:FREQ=YEARLY;BYMONTH=3;BYDAY=2SU
TZNAME:CDT
END:DAYLIGHT
BEGIN:STANDARD
TZOFFSETFROM:-0500
TZOFFSETTO:-0600
DTSTART:20071104T020000
RRULE:FREQ=YEARLY;BYMONTH=11;BYDAY=1SU
TZNAME:CST
END:STANDARD
END:VTIMEZONE
BEGIN:VEVENT
UID:97041041-bfcb-4549-8c05-d5138e9092a7.228047@calendar.missouristate.edu
CREATED:20221130T154547Z
LAST-MODIFIED:20221130T154547Z
LOCATION:To Be Determined
SUMMARY:Lunch with an MSU Genius: May 24\, 2023 - Brad Snow
DESCRIPTION:The Missouri State University Foundation is excited to host th
 is new series of luncheons designed to showcase the many types of genius 
 at Missouri State University: from faculty research and initiatives to aw
 ard-winning programs developed by staff\, to students winning national aw
 ards.\n\n\nAttendees will have an opportunity to have personal conversati
 on with these geniuses and see first-hand the amazing work and incredible
  impact they have.
X-ALT-DESC;FMTTYPE=text/html:&lt;html&gt;&lt;head&gt;&lt;title&gt;&lt;/title&gt;&lt;/head&gt;&lt;body&gt;&lt;p&gt;Th
 e Missouri State University Foundation is excited to host this new series
  of luncheons designed to showcase the many types of genius at Missouri S
 tate University: from faculty research and initiatives to award-winning p
 rograms developed by staff\, to students winning national awards.&lt;/p&gt;\n&lt;p
 &gt;Attendees will have an opportunity to have personal conversation with th
 ese geniuses and see first-hand the amazing work and incredible impact th
 ey have.&lt;/p&gt;&lt;/body&gt;&lt;/html&gt;
DTSTART;TZID=America/Chicago:20230524T113000
DTEND;TZID=America/Chicago:20230524T130000
SEQUENCE:0
URL:https://missouristate.imodules.com?sid=1691&amp;gid=2&amp;pgid=2995&amp;cid=5271&amp;e
 cid=5271&amp;ciid=18314&amp;crid=0
CATEGORIES:Public,Alumni,Parents And Family,Visitors
END:VEVENT
END:VCALENDAR