BEGIN:VCALENDAR
VERSION:2.0
METHOD:PUBLISH
PRODID:-//Missouri State University/Calendar of Events//EN
CALSCALE:GREGORIAN
X-WR-TIMEZONE:America/Chicago
BEGIN:VTIMEZONE
TZID:America/Chicago
BEGIN:DAYLIGHT
TZOFFSETFROM:-0600
TZOFFSETTO:-0500
DTSTART:20070311T020000
RRULE:FREQ=YEARLY;BYMONTH=3;BYDAY=2SU
TZNAME:CDT
END:DAYLIGHT
BEGIN:STANDARD
TZOFFSETFROM:-0500
TZOFFSETTO:-0600
DTSTART:20071104T020000
RRULE:FREQ=YEARLY;BYMONTH=11;BYDAY=1SU
TZNAME:CST
END:STANDARD
END:VTIMEZONE
BEGIN:VEVENT
UID:00000000-0000-0000-0000-000000000000.223133@calendar.missouristate.edu
CREATED:20221130T184516Z
LAST-MODIFIED:20221130T184516Z
LOCATION:To Be Determined
SUMMARY:Lunch with an MSU Genius: March 15\, 2023 - Dr. Kerri Tassin
DESCRIPTION:The Missouri State University Foundation is excited to host th
 is series of luncheons designed to showcase the many types of genius at M
 issouri State University: from faculty research and initiatives to award-
 winning programs developed by staff\, to students winning national awards
 . Attendees will have an opportunity have personal conversation with thes
 e geniuses and see first-hand the amazing work and incredible impact they
  have.\n\n\n 
X-ALT-DESC;FMTTYPE=text/html:&lt;html&gt;&lt;head&gt;&lt;title&gt;&lt;/title&gt;&lt;/head&gt;&lt;body&gt;&lt;p&gt;Th
 e Missouri State University Foundation is excited to host this series of 
 luncheons designed to showcase the many types of genius at Missouri State
  University: from faculty research and initiatives to award-winning progr
 ams developed by staff\, to students winning national awards. Attendees w
 ill have an opportunity have personal conversation with these geniuses an
 d see first-hand the amazing work and incredible impact they have.&lt;/p&gt;\n&lt;
 p&gt;&amp;nbsp\;&lt;/p&gt;&lt;/body&gt;&lt;/html&gt;
DTSTART;TZID=America/Chicago:20230315T113000
DTEND;TZID=America/Chicago:20230315T130000
SEQUENCE:0
URL:https://missouristate.imodules.com?sid=1691&amp;gid=2&amp;pgid=2992&amp;cid=5267&amp;e
 cid=5267&amp;ciid=17949&amp;crid=0
CATEGORIES:Public,Alumni,Parents and Family,Visitors
END:VEVENT
END:VCALENDAR