BEGIN:VCALENDAR
VERSION:2.0
METHOD:PUBLISH
PRODID:-//Missouri State University/Calendar of Events//EN
CALSCALE:GREGORIAN
X-WR-TIMEZONE:America/Chicago
BEGIN:VTIMEZONE
TZID:America/Chicago
BEGIN:DAYLIGHT
TZOFFSETFROM:-0600
TZOFFSETTO:-0500
DTSTART:20070311T020000
RRULE:FREQ=YEARLY;BYMONTH=3;BYDAY=2SU
TZNAME:CDT
END:DAYLIGHT
BEGIN:STANDARD
TZOFFSETFROM:-0500
TZOFFSETTO:-0600
DTSTART:20071104T020000
RRULE:FREQ=YEARLY;BYMONTH=11;BYDAY=1SU
TZNAME:CST
END:STANDARD
END:VTIMEZONE
BEGIN:VEVENT
UID:51186aa8-9ef0-4649-8c4d-ab2d545c6cdb.223134@calendar.missouristate.edu
CREATED:20221130T214052Z
LAST-MODIFIED:20221130T214052Z
LOCATION:Morris Center\, Jim D. Lobby
SUMMARY:Art Walk - New Year Superstitions Around The World
DESCRIPTION:Come and join us at our First Friday ArtWalk event this Decemb
 er to know more fun facts about New Year Celebrations around the world! Y
 ou can also have a chance to customize your "New Year Celebrations" gift 
 bags with a lot of surprises!
X-ALT-DESC;FMTTYPE=text/html:&lt;html&gt;&lt;head&gt;&lt;title&gt;&lt;/title&gt;&lt;/head&gt;&lt;body&gt;&lt;p&gt;Co
 me and join us at our First Friday ArtWalk event this December to know mo
 re fun facts about New Year Celebrations around the world! You can also h
 ave a chance to &lt;strong&gt;customize your "New Year Celebrations" gift bags&lt;
 /strong&gt; with a lot of surprises!&lt;/p&gt;&lt;/body&gt;&lt;/html&gt;
DTSTART;TZID=America/Chicago:20221202T173000
DTEND;TZID=America/Chicago:20221202T190000
SEQUENCE:0
URL:
CATEGORIES:Public,Alumni,Current Students,Faculty,Future Students,Staff
END:VEVENT
END:VCALENDAR