BEGIN:VCALENDAR
VERSION:2.0
METHOD:PUBLISH
PRODID:-//Missouri State University/Calendar of Events//EN
CALSCALE:GREGORIAN
X-WR-TIMEZONE:America/Chicago
BEGIN:VTIMEZONE
TZID:America/Chicago
BEGIN:DAYLIGHT
TZOFFSETFROM:-0600
TZOFFSETTO:-0500
DTSTART:20070311T020000
RRULE:FREQ=YEARLY;BYMONTH=3;BYDAY=2SU
TZNAME:CDT
END:DAYLIGHT
BEGIN:STANDARD
TZOFFSETFROM:-0500
TZOFFSETTO:-0600
DTSTART:20071104T020000
RRULE:FREQ=YEARLY;BYMONTH=11;BYDAY=1SU
TZNAME:CST
END:STANDARD
END:VTIMEZONE
BEGIN:VEVENT
UID:8e27cea9-31e7-41a0-a33a-4b2ae9fc05aa.223154@calendar.missouristate.edu
CREATED:20221201T061505Z
LAST-MODIFIED:20221201T061505Z
LOCATION:Pittsburg\, Kan.
SUMMARY:Missouri State University Women's Track at Pittsburg State Invitat
 ional
DESCRIPTION:Missouri State University Women's Track visits Pittsburg State
  Invitational
X-ALT-DESC;FMTTYPE=text/html:&lt;html&gt;&lt;head&gt;&lt;title&gt;&lt;/title&gt;&lt;/head&gt;&lt;body&gt;Misso
 uri State University Women's Track visits Pittsburg State Invitational&lt;/b
 ody&gt;&lt;/html&gt;
DTSTART;TZID=America/Chicago:20230128T000000
DTEND;TZID=America/Chicago:20230128T000000
SEQUENCE:0
URL:http://missouristatebears.com/index.aspx?path=wtrack
CATEGORIES:Current Students,Future Students,Parents and Family,Alumni,
 Faculty,Staff,Community,Visitors,Athletics
END:VEVENT
END:VCALENDAR