BEGIN:VCALENDAR
VERSION:2.0
METHOD:PUBLISH
PRODID:-//Missouri State University/Calendar of Events//EN
CALSCALE:GREGORIAN
X-WR-TIMEZONE:America/Chicago
BEGIN:VTIMEZONE
TZID:America/Chicago
BEGIN:DAYLIGHT
TZOFFSETFROM:-0600
TZOFFSETTO:-0500
DTSTART:20070311T020000
RRULE:FREQ=YEARLY;BYMONTH=3;BYDAY=2SU
TZNAME:CDT
END:DAYLIGHT
BEGIN:STANDARD
TZOFFSETFROM:-0500
TZOFFSETTO:-0600
DTSTART:20071104T020000
RRULE:FREQ=YEARLY;BYMONTH=11;BYDAY=1SU
TZNAME:CST
END:STANDARD
END:VTIMEZONE
BEGIN:VEVENT
UID:b52fc993-7db3-4ff6-aca5-0f2ef9985a29.223171@calendar.missouristate.edu
CREATED:20221205T171229Z
LAST-MODIFIED:20221205T171229Z
LOCATION:Meyer Library\, Duane G.
SUMMARY:Pet Therapy at Meyer Library
DESCRIPTION:Pet Therapy of the Ozarks is coming to Meyer Library! Take a b
 reak from studying for finals and come get some canine cuddles. \n\n\nThi
 s not-for-profit Missouri Corporation organized in 1991 to provide emotio
 n therapy visitys to hospitals\, nursing homes\, group homes\, schools an
 d other facilities. Pet Therapy of the Ozarks trains volunteers and their
  pets to become certified therapy dog teams. 
X-ALT-DESC;FMTTYPE=text/html:&lt;html&gt;&lt;head&gt;&lt;title&gt;&lt;/title&gt;&lt;/head&gt;&lt;body&gt;&lt;p&gt;Pe
 t Therapy of the Ozarks is coming to Meyer Library! Take a break from stu
 dying for finals and come get some canine cuddles.&amp;nbsp\;&lt;/p&gt;\n&lt;p&gt;This no
 t-for-profit Missouri Corporation organized in 1991 to provide emotion th
 erapy visitys to hospitals\, nursing homes\, group homes\, schools and ot
 her facilities. Pet Therapy of the Ozarks trains volunteers and their pet
 s to become certified therapy dog teams.&amp;nbsp\;&lt;/p&gt;\n&lt;p&gt;&lt;/p&gt;\n&lt;p&gt;&lt;/p&gt;&lt;/bo
 dy&gt;&lt;/html&gt;
DTSTART;TZID=America/Chicago:20221207T100000
DTEND;TZID=America/Chicago:20221207T120000
SEQUENCE:0
URL:116897.jpg
CATEGORIES:Current Students
END:VEVENT
END:VCALENDAR