BEGIN:VCALENDAR
VERSION:2.0
METHOD:PUBLISH
PRODID:-//Missouri State University/Calendar of Events//EN
CALSCALE:GREGORIAN
X-WR-TIMEZONE:America/Chicago
BEGIN:VTIMEZONE
TZID:America/Chicago
BEGIN:DAYLIGHT
TZOFFSETFROM:-0600
TZOFFSETTO:-0500
DTSTART:20070311T020000
RRULE:FREQ=YEARLY;BYMONTH=3;BYDAY=2SU
TZNAME:CDT
END:DAYLIGHT
BEGIN:STANDARD
TZOFFSETFROM:-0500
TZOFFSETTO:-0600
DTSTART:20071104T020000
RRULE:FREQ=YEARLY;BYMONTH=11;BYDAY=1SU
TZNAME:CST
END:STANDARD
END:VTIMEZONE
BEGIN:VEVENT
UID:02aeb719-4fbf-497f-99dd-e6937e4fc165.223174@calendar.missouristate.edu
CREATED:20221201T220819Z
LAST-MODIFIED:20221201T220819Z
LOCATION:Blair-Shannon House Dining Center
SUMMARY:President's Finals Breakfast
DESCRIPTION:Finals week can be a stressful time\, so come spend time with 
 friends\, enjoy great food\, and possibly win one of several great prizes
 .\n\n\n\n    $25 MSU Bookstore gift cards\n    Chick-Fil-A meal vouchers\
 n    Bluetooth speaker\n    Photo printer\n\nThere is no cost to you\, bu
 t please bring your BearPass ID and come hungry. You may enter through th
 e Blair entry doors.
X-ALT-DESC;FMTTYPE=text/html:&lt;html&gt;&lt;head&gt;&lt;title&gt;&lt;/title&gt;&lt;/head&gt;&lt;body&gt;&lt;p&gt;&lt;b
 r&gt;Finals week can be a stressful time\, so come spend time with friends\,
  enjoy great food\, and possibly win one of several great prizes.&lt;br&gt;&lt;br&gt;
 &lt;/p&gt;\n&lt;ul&gt;\n&lt;li&gt;&amp;nbsp\;&amp;nbsp\;&amp;nbsp\; $25 MSU Bookstore gift cards&lt;/li&gt;\n
 &lt;li&gt;&amp;nbsp\;&amp;nbsp\;&amp;nbsp\; Chick-Fil-A meal vouchers&lt;/li&gt;\n&lt;li&gt;&amp;nbsp\;&amp;nbs
 p\;&amp;nbsp\; Bluetooth speaker&lt;/li&gt;\n&lt;li&gt;&amp;nbsp\;&amp;nbsp\;&amp;nbsp\; Photo printe
 r&lt;/li&gt;\n&lt;/ul&gt;\n&lt;p&gt;&lt;br&gt;There is no cost to you\, but please bring your Bea
 rPass ID and come hungry. You may enter through the Blair entry doors.&lt;br
 &gt;&lt;br&gt;&lt;/p&gt;\n&lt;p&gt;&lt;/p&gt;&lt;/body&gt;&lt;/html&gt;
DTSTART;TZID=America/Chicago:20221212T210000
DTEND;TZID=America/Chicago:20221212T230000
SEQUENCE:0
URL:
CATEGORIES:Current Students
END:VEVENT
END:VCALENDAR