BEGIN:VCALENDAR
VERSION:2.0
METHOD:PUBLISH
PRODID:-//Missouri State University/Calendar of Events//EN
CALSCALE:GREGORIAN
X-WR-TIMEZONE:America/Chicago
BEGIN:VTIMEZONE
TZID:America/Chicago
BEGIN:DAYLIGHT
TZOFFSETFROM:-0600
TZOFFSETTO:-0500
DTSTART:20070311T020000
RRULE:FREQ=YEARLY;BYMONTH=3;BYDAY=2SU
TZNAME:CDT
END:DAYLIGHT
BEGIN:STANDARD
TZOFFSETFROM:-0500
TZOFFSETTO:-0600
DTSTART:20071104T020000
RRULE:FREQ=YEARLY;BYMONTH=11;BYDAY=1SU
TZNAME:CST
END:STANDARD
END:VTIMEZONE
BEGIN:VEVENT
UID:29821c22-63c9-4d5b-a730-d5d096ef1137.223175@calendar.missouristate.edu
CREATED:20221202T155130Z
LAST-MODIFIED:20221202T155130Z
LOCATION:Plaster Student Union\, Robert W. Food Court
SUMMARY:SAC Presents: Karaoke Night
DESCRIPTION:Come join SAC for a night of karaoke! There will be free food.
  Be entered for a chance to win prizes!
X-ALT-DESC;FMTTYPE=text/html:&lt;html&gt;&lt;head&gt;&lt;title&gt;&lt;/title&gt;&lt;/head&gt;&lt;body&gt;&lt;p&gt;Co
 me join SAC for a night of karaoke! There will be free food. Be entered f
 or a chance to win prizes!&lt;/p&gt;&lt;/body&gt;&lt;/html&gt;
DTSTART;TZID=America/Chicago:20221206T180000
DTEND;TZID=America/Chicago:20221206T203000
SEQUENCE:0
URL:116901.jpg
CATEGORIES:Current Students,Faculty,Staff
END:VEVENT
END:VCALENDAR