BEGIN:VCALENDAR
VERSION:2.0
METHOD:PUBLISH
PRODID:-//Missouri State University/Calendar of Events//EN
CALSCALE:GREGORIAN
X-WR-TIMEZONE:America/Chicago
BEGIN:VTIMEZONE
TZID:America/Chicago
BEGIN:DAYLIGHT
TZOFFSETFROM:-0600
TZOFFSETTO:-0500
DTSTART:20070311T020000
RRULE:FREQ=YEARLY;BYMONTH=3;BYDAY=2SU
TZNAME:CDT
END:DAYLIGHT
BEGIN:STANDARD
TZOFFSETFROM:-0500
TZOFFSETTO:-0600
DTSTART:20071104T020000
RRULE:FREQ=YEARLY;BYMONTH=11;BYDAY=1SU
TZNAME:CST
END:STANDARD
END:VTIMEZONE
BEGIN:VEVENT
UID:f148f019-3b73-4477-b51e-52e9bbdf1d2d.223176@calendar.missouristate.edu
CREATED:20221202T155306Z
LAST-MODIFIED:20221202T155306Z
LOCATION:Plaster Student Union\, Robert W. Ballroom East
SUMMARY:SAC Presents: Destress Fest
DESCRIPTION:Come join SAC to wind down before finals! Free food and prize 
 giveaways!
X-ALT-DESC;FMTTYPE=text/html:&lt;html&gt;&lt;head&gt;&lt;title&gt;&lt;/title&gt;&lt;/head&gt;&lt;body&gt;&lt;p&gt;Co
 me join SAC to wind down before finals! Free food and prize giveaways!&lt;/p
 &gt;&lt;/body&gt;&lt;/html&gt;
DTSTART;TZID=America/Chicago:20221208T190000
DTEND;TZID=America/Chicago:20221208T220000
SEQUENCE:0
URL:116902.jpg
CATEGORIES:Current Students,Faculty,Staff
END:VEVENT
END:VCALENDAR