BEGIN:VCALENDAR
VERSION:2.0
METHOD:PUBLISH
PRODID:-//Missouri State University/Calendar of Events//EN
CALSCALE:GREGORIAN
X-WR-TIMEZONE:America/Chicago
BEGIN:VTIMEZONE
TZID:America/Chicago
BEGIN:DAYLIGHT
TZOFFSETFROM:-0600
TZOFFSETTO:-0500
DTSTART:20070311T020000
RRULE:FREQ=YEARLY;BYMONTH=3;BYDAY=2SU
TZNAME:CDT
END:DAYLIGHT
BEGIN:STANDARD
TZOFFSETFROM:-0500
TZOFFSETTO:-0600
DTSTART:20071104T020000
RRULE:FREQ=YEARLY;BYMONTH=11;BYDAY=1SU
TZNAME:CST
END:STANDARD
END:VTIMEZONE
BEGIN:VEVENT
UID:52ada36e-daae-479a-8eff-a207dedcc23c.223177@calendar.missouristate.edu
CREATED:20221206T124930Z
LAST-MODIFIED:20221206T124930Z
LOCATION:Plaster Student Union\, Robert W. Theater
SUMMARY:SAC Presents: International Day Of Persons With Disabilities Movie
 : Children of  a Lesser God
DESCRIPTION:Come join SAC for our showing of Children of a Lesser God for 
 International Day of Persons with Disabilities. Free food and prize givea
 ways!
X-ALT-DESC;FMTTYPE=text/html:&lt;html&gt;&lt;head&gt;&lt;title&gt;&lt;/title&gt;&lt;/head&gt;&lt;body&gt;&lt;p&gt;Co
 me join SAC for our showing of Children of a Lesser God for International
  Day of Persons with Disabilities. Free food and prize giveaways!&lt;/p&gt;&lt;/bo
 dy&gt;&lt;/html&gt;
DTSTART;TZID=America/Chicago:20221202T000000
DTEND;TZID=America/Chicago:20221202T000000
SEQUENCE:0
URL:116903.jpg
CATEGORIES:Current Students,Faculty,Staff
END:VEVENT
END:VCALENDAR