BEGIN:VCALENDAR
VERSION:2.0
METHOD:PUBLISH
PRODID:-//Missouri State University/Calendar of Events//EN
CALSCALE:GREGORIAN
X-WR-TIMEZONE:America/Chicago
BEGIN:VTIMEZONE
TZID:America/Chicago
BEGIN:DAYLIGHT
TZOFFSETFROM:-0600
TZOFFSETTO:-0500
DTSTART:20070311T020000
RRULE:FREQ=YEARLY;BYMONTH=3;BYDAY=2SU
TZNAME:CDT
END:DAYLIGHT
BEGIN:STANDARD
TZOFFSETFROM:-0500
TZOFFSETTO:-0600
DTSTART:20071104T020000
RRULE:FREQ=YEARLY;BYMONTH=11;BYDAY=1SU
TZNAME:CST
END:STANDARD
END:VTIMEZONE
BEGIN:VEVENT
UID:a10aa1ae-b5ca-4238-a6a9-4aa0d82b499e.223195@calendar.missouristate.edu
CREATED:20230106T163007Z
LAST-MODIFIED:20230106T163007Z
LOCATION:Plaster Free Enterprise Center\, Robert W.
SUMMARY:Transforming Conflict into Positive Outcomes
DESCRIPTION:Does conflict sometimes interfere with the day-to-day operatio
 ns of your organization? Actually\, conflict is a natural and even benefi
 cial fact of life in the business environment. However\, when not managed
  well it can result in low morale\, decreased productivity\, high stress 
 levels\, and the loss of good employees\, all of which detract from the o
 rganization’s performance. The inability to deal with conflict can underm
 ine a supervisor’s or manager’s effectiveness. Learn how to manage confli
 ct situations to produce positive outcomes.
X-ALT-DESC;FMTTYPE=text/html:&lt;html&gt;&lt;head&gt;&lt;title&gt;&lt;/title&gt;&lt;/head&gt;&lt;body&gt;&lt;p&gt;&lt;s
 pan&gt;Does conflict sometimes interfere with the day-to-day operations of y
 our organization? Actually\, conflict is a natural and even beneficial fa
 ct of life in the business environment. However\, when not managed well i
 t can result in low morale\, decreased productivity\, high stress levels\
 , and the loss of good employees\, all of which detract from the organiza
 tion’s performance. The inability to deal with conflict can undermine a s
 upervisor’s or manager’s effectiveness. Learn how to manage conflict situ
 ations to produce positive outcomes.&lt;/span&gt;&lt;/p&gt;&lt;/body&gt;&lt;/html&gt;
DTSTART;TZID=America/Chicago:20230321T090000
DTEND;TZID=America/Chicago:20230321T160000
SEQUENCE:0
URL:https://sbdc.missouristate.edu/training/
CATEGORIES:Public
END:VEVENT
END:VCALENDAR