BEGIN:VCALENDAR
VERSION:2.0
METHOD:PUBLISH
PRODID:-//Missouri State University/Calendar of Events//EN
CALSCALE:GREGORIAN
X-WR-TIMEZONE:America/Chicago
BEGIN:VTIMEZONE
TZID:America/Chicago
BEGIN:DAYLIGHT
TZOFFSETFROM:-0600
TZOFFSETTO:-0500
DTSTART:20070311T020000
RRULE:FREQ=YEARLY;BYMONTH=3;BYDAY=2SU
TZNAME:CDT
END:DAYLIGHT
BEGIN:STANDARD
TZOFFSETFROM:-0500
TZOFFSETTO:-0600
DTSTART:20071104T020000
RRULE:FREQ=YEARLY;BYMONTH=11;BYDAY=1SU
TZNAME:CST
END:STANDARD
END:VTIMEZONE
BEGIN:VEVENT
UID:e0b25312-1eb3-4f4c-ad27-fee054765389.223196@calendar.missouristate.edu
CREATED:20230106T162949Z
LAST-MODIFIED:20230106T162949Z
LOCATION:Plaster Free Enterprise Center\, Robert W. PCTR 1001
SUMMARY:Successful Project Management (2-Day Program)
DESCRIPTION:Managers are constantly called upon to manage projects or to b
 e part of a project team. The effective management of projects – completi
 on within a deadline and a budget\, subject to performance criteria – is 
 the cornerstone for business success. All projects are undertaken to achi
 eve specific results and need a framework to help accomplish an important
  new objective\; face new challenges and organizational structures\, defi
 ne objectives\, communicate and instruct.
X-ALT-DESC;FMTTYPE=text/html:&lt;html&gt;&lt;head&gt;&lt;title&gt;&lt;/title&gt;&lt;/head&gt;&lt;body&gt;&lt;p&gt;&lt;s
 pan&gt;Managers are constantly called upon to manage projects or to be part 
 of a project team. The effective management of projects – completion with
 in a deadline and a budget\, subject to performance criteria – is the cor
 nerstone for business success. All projects are undertaken to achieve spe
 cific results and need a framework to help accomplish an important new ob
 jective\; face new challenges and organizational structures\, define obje
 ctives\, communicate and instruct.&lt;/span&gt;&lt;/p&gt;&lt;/body&gt;&lt;/html&gt;
DTSTART;TZID=America/Chicago:20230413T090000
DTEND;TZID=America/Chicago:20230413T120000
SEQUENCE:1
URL:https://sbdc.missouristate.edu/training/
CATEGORIES:Public
END:VEVENT
END:VCALENDAR