BEGIN:VCALENDAR
VERSION:2.0
METHOD:PUBLISH
PRODID:-//Missouri State University/Calendar of Events//EN
CALSCALE:GREGORIAN
X-WR-TIMEZONE:America/Chicago
BEGIN:VTIMEZONE
TZID:America/Chicago
BEGIN:DAYLIGHT
TZOFFSETFROM:-0600
TZOFFSETTO:-0500
DTSTART:20070311T020000
RRULE:FREQ=YEARLY;BYMONTH=3;BYDAY=2SU
TZNAME:CDT
END:DAYLIGHT
BEGIN:STANDARD
TZOFFSETFROM:-0500
TZOFFSETTO:-0600
DTSTART:20071104T020000
RRULE:FREQ=YEARLY;BYMONTH=11;BYDAY=1SU
TZNAME:CST
END:STANDARD
END:VTIMEZONE
BEGIN:VEVENT
UID:d6f1b113-66a4-4c79-ba8b-ff6297056780.223524@calendar.missouristate.edu
CREATED:20221219T173230Z
LAST-MODIFIED:20221219T173230Z
LOCATION:Glass Hall\, David D. 486
SUMMARY:MarCom Training Week 2023: How to look like Missouri State
DESCRIPTION:Presenter: Veronica Adinegara\, Creative Services\n\n\nIn this
  session\, you'll learn: \n\n\n\nBrand visual guidelines. \nWhat brand re
 sources are available.? \nHow to use university logos and branding elemen
 ts. \nBest practices for designing within the brand. \n\nRegistration is 
 required at My Learning Connection in my.missouristate.edu.\n\n\n\nGo to 
 your profile tab.\nFind the Professional Development box.\nSelect My Lear
 ning Connection.\nSearch for this session.\nSign up.
X-ALT-DESC;FMTTYPE=text/html:&lt;html&gt;&lt;head&gt;&lt;title&gt;&lt;/title&gt;&lt;/head&gt;&lt;body&gt;&lt;p&gt;Pr
 esenter: Veronica Adinegara\, Creative Services&lt;/p&gt;\n&lt;p&gt;In this session\,
  you'll learn:&amp;nbsp\;&lt;/p&gt;\n&lt;ul&gt;\n&lt;li&gt;Brand visual guidelines.&amp;nbsp\;&lt;/li&gt;
 \n&lt;li&gt;What brand resources are available.?&amp;nbsp\;&lt;/li&gt;\n&lt;li&gt;How to use un
 iversity logos and branding elements.&amp;nbsp\;&lt;/li&gt;\n&lt;li&gt;Best practices for
  designing within the brand.&amp;nbsp\;&lt;/li&gt;\n&lt;/ul&gt;\n&lt;p&gt;Registration is requi
 red at My Learning Connection in my.missouristate.edu.&lt;/p&gt;\n&lt;ul&gt;\n&lt;li&gt;Go 
 to your profile tab.&lt;/li&gt;\n&lt;li&gt;Find the Professional Development box.&lt;/li
 &gt;\n&lt;li&gt;Select My Learning Connection.&lt;/li&gt;\n&lt;li&gt;Search for this session.&lt;
 /li&gt;\n&lt;li&gt;Sign up.&lt;/li&gt;\n&lt;/ul&gt;&lt;/body&gt;&lt;/html&gt;
DTSTART;TZID=America/Chicago:20230227T090000
DTEND;TZID=America/Chicago:20230227T100000
SEQUENCE:1
URL:116915.jpg
CATEGORIES:Current Students,Faculty,Staff
END:VEVENT
END:VCALENDAR