BEGIN:VCALENDAR
VERSION:2.0
METHOD:PUBLISH
PRODID:-//Missouri State University/Calendar of Events//EN
CALSCALE:GREGORIAN
X-WR-TIMEZONE:America/Chicago
BEGIN:VTIMEZONE
TZID:America/Chicago
BEGIN:DAYLIGHT
TZOFFSETFROM:-0600
TZOFFSETTO:-0500
DTSTART:20070311T020000
RRULE:FREQ=YEARLY;BYMONTH=3;BYDAY=2SU
TZNAME:CDT
END:DAYLIGHT
BEGIN:STANDARD
TZOFFSETFROM:-0500
TZOFFSETTO:-0600
DTSTART:20071104T020000
RRULE:FREQ=YEARLY;BYMONTH=11;BYDAY=1SU
TZNAME:CST
END:STANDARD
END:VTIMEZONE
BEGIN:VEVENT
UID:0177ea6a-50fd-4f9c-b760-89f75d1953b4.223525@calendar.missouristate.edu
CREATED:20221219T173648Z
LAST-MODIFIED:20221219T173648Z
LOCATION:Glass Hall\, David D. 486
SUMMARY:MarCom Training Week 2023: Hello Omni CMS\, goodbye WebPress! 
DESCRIPTION:Presenter: Web Strategy and Development team\n\n\nLearn how to
  make your web content shine using the new Content Management System (CMS
 )\, Omni. Whether you are a new editor or seasoned Omni user\, you’ll lea
 rn about the tools available to get the most out of Omni CMS. At the end 
 of the presentation\, we’ll have an open lab to address individual questi
 ons or issues you need help with.  In this session we’ll cover:  \n\n\n\n
 Omni CMS\, the basics.\nThe building blocks\, snippets\, assets and compo
 nents.\nUsing design patterns\, the editor’s toolkit.\nMaking your conten
 t intuitive and accessible.\nHow to get Omni CMS access and support.\nQ&amp;A
  and open lab.\n\nRegistration is required at My Learning Connection in m
 y.missouristate.edu.\n\n\n\nGo to your profile tab.\nFind the Professiona
 l Development box.\nSelect My Learning Connection.\nSearch for this sessi
 on.\nSign up.
X-ALT-DESC;FMTTYPE=text/html:&lt;html&gt;&lt;head&gt;&lt;title&gt;&lt;/title&gt;&lt;/head&gt;&lt;body&gt;&lt;p&gt;Pr
 esenter: Web Strategy and Development team&lt;/p&gt;\n&lt;p&gt;Learn how to make your
  web content shine using the new Content Management System (CMS)\, Omni. 
 Whether you are a new editor or seasoned Omni user\, you’ll learn about t
 he tools available to get the most out of Omni CMS. At the end of the pre
 sentation\, we’ll have an open lab to address individual questions or iss
 ues you need help with. &amp;nbsp\;&lt;br&gt;&lt;br&gt;In this session we’ll cover:&amp;nbsp\
 ; &lt;/p&gt;\n&lt;ul&gt;\n&lt;li&gt;Omni CMS\, the basics.&lt;/li&gt;\n&lt;li&gt;The building blocks\, 
 snippets\, assets and components.&lt;/li&gt;\n&lt;li&gt;Using design patterns\, the e
 ditor’s toolkit.&lt;/li&gt;\n&lt;li&gt;Making your content intuitive and accessible.&lt;
 /li&gt;\n&lt;li&gt;How to get Omni CMS access and support.&lt;/li&gt;\n&lt;li&gt;Q&amp;amp\;A and 
 open lab.&lt;/li&gt;\n&lt;/ul&gt;\n&lt;p&gt;Registration is required at My Learning Connect
 ion in my.missouristate.edu.&lt;/p&gt;\n&lt;ul&gt;\n&lt;li&gt;Go to your profile tab.&lt;/li&gt;\
 n&lt;li&gt;Find the Professional Development box.&lt;/li&gt;\n&lt;li&gt;Select My Learning 
 Connection.&lt;/li&gt;\n&lt;li&gt;Search for this session.&lt;/li&gt;\n&lt;li&gt;Sign up.&lt;/li&gt;\n&lt;
 /ul&gt;&lt;/body&gt;&lt;/html&gt;
DTSTART;TZID=America/Chicago:20230227T130000
DTEND;TZID=America/Chicago:20230227T150000
SEQUENCE:1
URL:116916.jpg
CATEGORIES:Current Students,Faculty,Staff
END:VEVENT
END:VCALENDAR