BEGIN:VCALENDAR
VERSION:2.0
METHOD:PUBLISH
PRODID:-//Missouri State University/Calendar of Events//EN
CALSCALE:GREGORIAN
X-WR-TIMEZONE:America/Chicago
BEGIN:VTIMEZONE
TZID:America/Chicago
BEGIN:DAYLIGHT
TZOFFSETFROM:-0600
TZOFFSETTO:-0500
DTSTART:20070311T020000
RRULE:FREQ=YEARLY;BYMONTH=3;BYDAY=2SU
TZNAME:CDT
END:DAYLIGHT
BEGIN:STANDARD
TZOFFSETFROM:-0500
TZOFFSETTO:-0600
DTSTART:20071104T020000
RRULE:FREQ=YEARLY;BYMONTH=11;BYDAY=1SU
TZNAME:CST
END:STANDARD
END:VTIMEZONE
BEGIN:VEVENT
UID:16267c30-c146-46c4-9c6e-e9ae72bd1b59.223527@calendar.missouristate.edu
CREATED:20221209T213643Z
LAST-MODIFIED:20221209T213643Z
LOCATION:Glass Hall\, David D. 486
SUMMARY:MarCom Training Week 2023: Q&amp;A panel: Making your statement with p
 hoto and video 
DESCRIPTION:Panelists: Video Marketing and Photography team\n\n\nThis is a
  Q&amp;A discussion panel\, so bring any questions you would like answered ab
 out photography and videography. Some examples:\n\n\n\nHow can we use pho
 tos and videos to better market our area? \nHow can we best make our phot
 o or video request productive? \nWhat elements make a good photo or video
 ?  \nHow can we better plan our own photo or video shoot?\nWhat technique
 s can we use to improve our photos and videos - and can you demonstrate? 
 \nWhat type of gear will we need to get us started?  \nWhat are some tric
 ks to working with subjects?\n\nRegistration is required at My Learning C
 onnection in my.missouristate.edu.\n\n\n\nGo to your profile tab.\nFind t
 he Professional Development box.\nSelect My Learning Connection.\nSearch 
 for this session.\nSign up.
X-ALT-DESC;FMTTYPE=text/html:&lt;html&gt;&lt;head&gt;&lt;title&gt;&lt;/title&gt;&lt;/head&gt;&lt;body&gt;&lt;p&gt;Pa
 nelists: Video Marketing and Photography team&lt;/p&gt;\n&lt;p&gt;This is a Q&amp;amp\;A 
 discussion panel\, so bring any questions you would like answered about p
 hotography and videography. Some examples:&lt;/p&gt;\n&lt;ul&gt;\n&lt;li&gt;How can we use 
 photos and videos to better market our area?&amp;nbsp\;&lt;/li&gt;\n&lt;li&gt;How can we 
 best make our photo or video request productive?&amp;nbsp\;&lt;/li&gt;\n&lt;li&gt;What el
 ements make a good photo or video?&amp;nbsp\;&amp;nbsp\;&lt;/li&gt;\n&lt;li&gt;How can we bet
 ter plan our own photo or video shoot?&lt;/li&gt;\n&lt;li&gt;What techniques can we u
 se to improve our photos and videos - and can you demonstrate?&amp;nbsp\;&lt;/li
 &gt;\n&lt;li&gt;What type of gear will we need to get us started?&amp;nbsp\;&amp;nbsp\;&lt;/l
 i&gt;\n&lt;li&gt;What are some tricks to working with subjects?&lt;/li&gt;\n&lt;/ul&gt;\n&lt;p&gt;Re
 gistration is required at My Learning Connection in my.missouristate.edu.
 &lt;/p&gt;\n&lt;ul&gt;\n&lt;li&gt;Go to your profile tab.&lt;/li&gt;\n&lt;li&gt;Find the Professional D
 evelopment box.&lt;/li&gt;\n&lt;li&gt;Select My Learning Connection.&lt;/li&gt;\n&lt;li&gt;Search
  for this session.&lt;/li&gt;\n&lt;li&gt;Sign up.&lt;/li&gt;\n&lt;/ul&gt;&lt;/body&gt;&lt;/html&gt;
DTSTART;TZID=America/Chicago:20230228T090000
DTEND;TZID=America/Chicago:20230228T100000
SEQUENCE:0
URL:116917.jpg
CATEGORIES:Current Students,Faculty,Staff
END:VEVENT
END:VCALENDAR