BEGIN:VCALENDAR
VERSION:2.0
METHOD:PUBLISH
PRODID:-//Missouri State University/Calendar of Events//EN
CALSCALE:GREGORIAN
X-WR-TIMEZONE:America/Chicago
BEGIN:VTIMEZONE
TZID:America/Chicago
BEGIN:DAYLIGHT
TZOFFSETFROM:-0600
TZOFFSETTO:-0500
DTSTART:20070311T020000
RRULE:FREQ=YEARLY;BYMONTH=3;BYDAY=2SU
TZNAME:CDT
END:DAYLIGHT
BEGIN:STANDARD
TZOFFSETFROM:-0500
TZOFFSETTO:-0600
DTSTART:20071104T020000
RRULE:FREQ=YEARLY;BYMONTH=11;BYDAY=1SU
TZNAME:CST
END:STANDARD
END:VTIMEZONE
BEGIN:VEVENT
UID:42d899f6-f559-4347-98e9-b766f9426b0e.223528@calendar.missouristate.edu
CREATED:20230203T024747Z
LAST-MODIFIED:20230203T024747Z
LOCATION:Glass Hall\, David D. 486
SUMMARY:MarCom Training Week 2023: How to sound like Missouri State
DESCRIPTION:Presenters: Michelle Rose and Katherine Whitaker\n\n\nDuring t
 his session\, you'll learn:\n\n\n\nHow to write about Missouri State with
 in brand.\nAbout the assistance available within the brand website.\nWhat
  style to use when writing for the university.\nBest practices for readab
 ility and accessibility.\nBlogging tips and hacks for making your online 
 post the best it can be.\n\nRegistration is required at My Learning Conne
 ction in my.missouristate.edu.\n\n\n\nGo to your profile tab.\nFind the P
 rofessional Development box.\nSelect My Learning Connection.\nSearch for 
 this session.\nSign up.
X-ALT-DESC;FMTTYPE=text/html:&lt;html&gt;&lt;head&gt;&lt;title&gt;&lt;/title&gt;&lt;/head&gt;&lt;body&gt;&lt;p&gt;Pr
 esenters: Michelle Rose and Katherine Whitaker&lt;/p&gt;\n&lt;p&gt;During this sessio
 n\, you'll learn:&lt;/p&gt;\n&lt;ul&gt;\n&lt;li&gt;How to write about Missouri State within
  brand.&lt;/li&gt;\n&lt;li&gt;About the assistance available within the brand website
 .&lt;/li&gt;\n&lt;li&gt;What style to use when writing for the university.&lt;/li&gt;\n&lt;li&gt;
 Best practices for readability and accessibility.&lt;/li&gt;\n&lt;li&gt;Blogging tips
  and hacks for making your online post the best it can be.&lt;/li&gt;\n&lt;/ul&gt;\n&lt;
 p&gt;Registration is required at My Learning Connection in my.missouristate.
 edu.&lt;/p&gt;\n&lt;ul&gt;\n&lt;li&gt;Go to your profile tab.&lt;/li&gt;\n&lt;li&gt;Find the Profession
 al Development box.&lt;/li&gt;\n&lt;li&gt;Select My Learning Connection.&lt;/li&gt;\n&lt;li&gt;Se
 arch for this session.&lt;/li&gt;\n&lt;li&gt;Sign up.&lt;/li&gt;\n&lt;/ul&gt;&lt;/body&gt;&lt;/html&gt;
DTSTART;TZID=America/Chicago:20230301T090000
DTEND;TZID=America/Chicago:20230301T100000
SEQUENCE:1
URL:116918.jpg
CATEGORIES:Current Students,Faculty,Staff
END:VEVENT
END:VCALENDAR